BEGIN:VCALENDAR
VERSION:2.0
PRODID:-//Bürger bewegen Vaihingen an der Enz - ECPv6.15.20//NONSGML v1.0//EN
CALSCALE:GREGORIAN
METHOD:PUBLISH
X-WR-CALNAME:Bürger bewegen Vaihingen an der Enz
X-ORIGINAL-URL:https://bb-vaihingen.de
X-WR-CALDESC:Veranstaltungen für Bürger bewegen Vaihingen an der Enz
REFRESH-INTERVAL;VALUE=DURATION:PT1H
X-Robots-Tag:noindex
X-PUBLISHED-TTL:PT1H
BEGIN:VTIMEZONE
TZID:Europe/Berlin
BEGIN:DAYLIGHT
TZOFFSETFROM:+0100
TZOFFSETTO:+0200
TZNAME:CEST
DTSTART:20240331T010000
END:DAYLIGHT
BEGIN:STANDARD
TZOFFSETFROM:+0200
TZOFFSETTO:+0100
TZNAME:CET
DTSTART:20241027T010000
END:STANDARD
BEGIN:DAYLIGHT
TZOFFSETFROM:+0100
TZOFFSETTO:+0200
TZNAME:CEST
DTSTART:20250330T010000
END:DAYLIGHT
BEGIN:STANDARD
TZOFFSETFROM:+0200
TZOFFSETTO:+0100
TZNAME:CET
DTSTART:20251026T010000
END:STANDARD
BEGIN:DAYLIGHT
TZOFFSETFROM:+0100
TZOFFSETTO:+0200
TZNAME:CEST
DTSTART:20260329T010000
END:DAYLIGHT
BEGIN:STANDARD
TZOFFSETFROM:+0200
TZOFFSETTO:+0100
TZNAME:CET
DTSTART:20261025T010000
END:STANDARD
BEGIN:DAYLIGHT
TZOFFSETFROM:+0100
TZOFFSETTO:+0200
TZNAME:CEST
DTSTART:20270328T010000
END:DAYLIGHT
BEGIN:STANDARD
TZOFFSETFROM:+0200
TZOFFSETTO:+0100
TZNAME:CET
DTSTART:20271031T010000
END:STANDARD
END:VTIMEZONE
BEGIN:VEVENT
DTSTART;TZID=Europe/Berlin:20260408T190000
DTEND;TZID=Europe/Berlin:20260408T210000
DTSTAMP:20260424T125034
CREATED:20260323T085321Z
LAST-MODIFIED:20260323T085324Z
UID:12922-1775674800-1775682000@bb-vaihingen.de
SUMMARY:BbV-Plenum | »Besprechung der neuen Sitzungsunterlagen für April«
DESCRIPTION:Wir besprechen die Unterlagen der aktuellen Sitzungsrunde. Alle Interessierten sind herzlich willkommen. 
URL:https://bb-vaihingen.de/event/bbv-plenum-besprechung-der-neuen-sitzungsunterlagen-fuer-april/
LOCATION:Gasthaus »Zum Engel«\, Stuttgarter Straße 2\, Vaihingen an der Enz\, 71665\, Deutschland
END:VEVENT
BEGIN:VEVENT
DTSTART;TZID=Europe/Berlin:20260401T190000
DTEND;TZID=Europe/Berlin:20260401T210000
DTSTAMP:20260424T125034
CREATED:20251215T151747Z
LAST-MODIFIED:20260326T083740Z
UID:12839-1775070000-1775077200@bb-vaihingen.de
SUMMARY:Fällt aus! Kein offenes BbV-Plenum im April
DESCRIPTION:Das Plenum wurde abgesagt!
URL:https://bb-vaihingen.de/event/offenes-bbv-plenum-im-maerz/
CATEGORIES:Plenum
END:VEVENT
BEGIN:VEVENT
DTSTART;TZID=Europe/Berlin:20260317T190000
DTEND;TZID=Europe/Berlin:20260317T210000
DTSTAMP:20260424T125034
CREATED:20251215T150556Z
LAST-MODIFIED:20260316T080436Z
UID:12830-1773774000-1773781200@bb-vaihingen.de
SUMMARY:Öffentliche Sitzung der BbV-Fraktion
DESCRIPTION:Vor der nächsten Sitzung des Gemeinderates. Die Themen richten sich nach der Tagesordnung des Gemeinderates.  \n\n\n\nWir treffen uns dieses mal auf dem Biohof Braun in Aurich\, weil das Gasthaus »Zum Engel« heute nicht zur Verfügung steht.
URL:https://bb-vaihingen.de/event/oeffentliche-sitzung-der-bbv-fraktion-13/
LOCATION:Biohof Braun\, Hohbergstraße 14\, Vaihingen an der Enz\, 71665\, Germany
CATEGORIES:Fraktionssitzung,Unterlagen
END:VEVENT
BEGIN:VEVENT
DTSTART;TZID=Europe/Berlin:20260228T090000
DTEND;TZID=Europe/Berlin:20260228T120000
DTSTAMP:20260424T125034
CREATED:20260123T112205Z
LAST-MODIFIED:20260123T112813Z
UID:12848-1772269200-1772280000@bb-vaihingen.de
SUMMARY:22. Vaihinger Stadtputz
DESCRIPTION:Wir treffen uns um 9 Uhr am Seiteneingang der Alten Kelter (Karte)\, Grabenstraße 20\, 71665 Vaihingen an der Enz.  \n\n\n\nWir haben den Bezirk 1 (Kartenansicht)
URL:https://bb-vaihingen.de/event/22-vaihinger-stadtputz/
LOCATION:Alte Kelter\, Grabenstraße 20\, 71665 Vaihingen an der Enz
END:VEVENT
BEGIN:VEVENT
DTSTART;TZID=Europe/Berlin:20260225T190000
DTEND;TZID=Europe/Berlin:20260225T210000
DTSTAMP:20260424T125034
CREATED:20251215T151212Z
LAST-MODIFIED:20251215T151852Z
UID:12833-1772046000-1772053200@bb-vaihingen.de
SUMMARY:BbV-Plenum | »Besprechung der neuen Sitzungsunterlagen für Februar«
DESCRIPTION:Wir besprechen die Unterlagen der aktuellen Sitzungsrunde. Alle Interessierten sind herzlich willkommen.
URL:https://bb-vaihingen.de/event/bbv-plenum-besprechung-der-neuen-sitzungsunterlagen-fuer-februar/
LOCATION:Gasthaus »Zum Engel«\, Stuttgarter Straße 2\, Vaihingen an der Enz\, 71665\, Deutschland
CATEGORIES:Plenum,Unterlagen
END:VEVENT
BEGIN:VEVENT
DTSTART;TZID=Europe/Berlin:20260209T190000
DTEND;TZID=Europe/Berlin:20260209T210000
DTSTAMP:20260424T125034
CREATED:20251215T151625Z
LAST-MODIFIED:20251215T152534Z
UID:12837-1770663600-1770670800@bb-vaihingen.de
SUMMARY:Offenes BbV-Plenum im Februar
DESCRIPTION:Was uns in der Kommunalpolitik bewegt! Alle zwei Monate treffen wir uns im »Gasthaus Engel« zum offenen Plenum. Frei von Sachzwängen sprechen wir über das\, was uns bewegt. Dabei diskutieren wir auch über neue Ideen\, geplante Aktionen und anstehende Veranstaltungen. Alle\, die sich für die Kommunalpolitik in Vaihingen an der Enz interessieren\, sind herzlich willkommen – um mitzudiskutieren oder einfach nur zuzuhören. 
URL:https://bb-vaihingen.de/event/offenes-bbv-plenum-im-februar/
LOCATION:Gasthaus »Zum Engel«\, Stuttgarter Straße 2\, Vaihingen an der Enz\, 71665\, Deutschland
CATEGORIES:Plenum
END:VEVENT
BEGIN:VEVENT
DTSTART;TZID=Europe/Berlin:20260203T190000
DTEND;TZID=Europe/Berlin:20260203T210000
DTSTAMP:20260424T125034
CREATED:20251215T145852Z
LAST-MODIFIED:20251215T152559Z
UID:12826-1770145200-1770152400@bb-vaihingen.de
SUMMARY:Öffentliche Sitzung der BbV-Fraktion
DESCRIPTION:Vor der nächsten Sitzung des Gemeinderates. Die Themen richten sich nach der Tagesordnung des Gemeinderates.
URL:https://bb-vaihingen.de/event/oeffentliche-sitzung-der-bbv-fraktion-12/
LOCATION:Gasthaus »Zum Engel«\, Stuttgarter Straße 2\, Vaihingen an der Enz\, 71665\, Deutschland
CATEGORIES:Fraktionssitzung,Unterlagen
END:VEVENT
BEGIN:VEVENT
DTSTART;TZID=Europe/Berlin:20260120T190000
DTEND;TZID=Europe/Berlin:20260120T210000
DTSTAMP:20260424T125034
CREATED:20251230T165043Z
LAST-MODIFIED:20251230T165500Z
UID:12843-1768935600-1768942800@bb-vaihingen.de
SUMMARY:Ideen-Plenum für die Haushaltsstrukturkommission
DESCRIPTION:Organisator und Moderator ist Jürgen.  \n\n\n\nDie Einreichung der Ideen ist von der Verwaltung zunächst bis zum 31. Januar 2026 begrenzt. \n\n\n\nVorbereitung\n\n\n\nFalls Ihr Ideen habt\, dann bitte Folgendes  vorbereiten: \n\n\n\n\nArt der Einsparung (einmalige oder jährliche Einsparungen oder Mehreinnahmen\, etc.)\n\n\n\nHöhe der Einsparung\n\n\n\nworaus resultieren die Einsparungen\n\n\n\nausführliche Beschreibung (max. 2.500 Zeichen)\n\n\n\n\nJürgen würde sich über ein reges Interesse freuen.
URL:https://bb-vaihingen.de/event/ideen-plenum-fuer-die-haushaltsstrukturkommission/
LOCATION:Gasthaus »Zum Engel«\, Stuttgarter Straße 2\, Vaihingen an der Enz\, 71665\, Deutschland
CATEGORIES:Plenum
END:VEVENT
BEGIN:VEVENT
DTSTART;TZID=Europe/Berlin:20260114T190000
DTEND;TZID=Europe/Berlin:20260114T210000
DTSTAMP:20260424T125034
CREATED:20251215T150945Z
LAST-MODIFIED:20251215T151014Z
UID:12832-1768417200-1768424400@bb-vaihingen.de
SUMMARY:BbV-Plenum | »Besprechung der neuen Sitzungsunterlagen für Januar«
DESCRIPTION:Wir besprechen die Unterlagen der aktuellen Sitzungsrunde. Alle Interessierten sind herzlich willkommen.
URL:https://bb-vaihingen.de/event/bbv-plenum-besprechung-der-neuen-sitzungsunterlagen-fuer-januar/
LOCATION:Gasthaus »Zum Engel«\, Stuttgarter Straße 2\, Vaihingen an der Enz\, 71665\, Deutschland
CATEGORIES:Plenum,Unterlagen
END:VEVENT
BEGIN:VEVENT
DTSTART;TZID=Europe/Berlin:20260106T150000
DTEND;TZID=Europe/Berlin:20260106T190000
DTSTAMP:20260424T125034
CREATED:20251202T210027Z
LAST-MODIFIED:20251215T145416Z
UID:12793-1767711600-1767726000@bb-vaihingen.de
SUMMARY:BbV-Neujahrstreffen im Engel
DESCRIPTION:Wir treffen uns bei Kaffee und Kuchen.
URL:https://bb-vaihingen.de/event/bbv-neujahrsempfang/
LOCATION:Gasthaus »Zum Engel«\, Stuttgarter Straße 2\, Vaihingen an der Enz\, 71665\, Deutschland
CATEGORIES:Plenum
END:VEVENT
BEGIN:VEVENT
DTSTART;TZID=Europe/Berlin:20251208T190000
DTEND;TZID=Europe/Berlin:20251208T210000
DTSTAMP:20260424T125034
CREATED:20250806T122203Z
LAST-MODIFIED:20250828T135456Z
UID:12525-1765220400-1765227600@bb-vaihingen.de
SUMMARY:Öffentliche Sitzung der BbV-Fraktion
DESCRIPTION:Vor der nächsten Sitzung des Gemeinderates. Die Themen richten sich nach der Tagesordnung des Gemeinderates
URL:https://bb-vaihingen.de/event/oeffentliche-sitzung-der-bbv-fraktion-10/
LOCATION:Gasthaus »Zum Engel«\, Stuttgarter Straße 2\, Vaihingen an der Enz\, 71665\, Deutschland
CATEGORIES:Fraktionssitzung,Plenum
END:VEVENT
BEGIN:VEVENT
DTSTART;TZID=Europe/Berlin:20251204T190000
DTEND;TZID=Europe/Berlin:20251204T210000
DTSTAMP:20260424T125034
CREATED:20250828T135141Z
LAST-MODIFIED:20250828T135307Z
UID:12530-1764874800-1764882000@bb-vaihingen.de
SUMMARY:Offenes BbV-Plenum im Dezember
DESCRIPTION:Was uns in der Kommunalpolitik bewegt! Alle zwei Monate treffen wir uns im »Gasthaus Engel« zum offenen Plenum. Frei von Sachzwängen sprechen wir über das\, was uns bewegt. Dabei diskutieren wir auch über neue Ideen\, geplante Aktionen und anstehende Veranstaltungen. Alle\, die sich für die Kommunalpolitik in Vaihingen an der Enz interessieren\, sind herzlich willkommen – um mitzudiskutieren oder einfach nur zuzuhören. 
URL:https://bb-vaihingen.de/event/offenes-bbv-plenum-im-dezember/
LOCATION:Gasthaus »Zum Engel«\, Stuttgarter Straße 2\, Vaihingen an der Enz\, 71665\, Deutschland
CATEGORIES:Plenum
END:VEVENT
BEGIN:VEVENT
DTSTART;TZID=Europe/Berlin:20251121T190000
DTEND;TZID=Europe/Berlin:20251121T210000
DTSTAMP:20260424T125034
CREATED:20250806T121445Z
LAST-MODIFIED:20250828T135538Z
UID:12515-1763751600-1763758800@bb-vaihingen.de
SUMMARY:BbV-Plenum | »Besprechung der neuen Sitzungsunterlagen für Dezember«
DESCRIPTION:Wir besprechen die Unterlagen der aktuellen Sitzungsrunde. Alle Interessierten sind herzlich willkommen.
URL:https://bb-vaihingen.de/event/bbv-plenum-besprechung-der-neuen-sitzungsunterlagen-fuer-dezember/
LOCATION:Gasthaus »Zum Engel«\, Stuttgarter Straße 2\, Vaihingen an der Enz\, 71665\, Deutschland
CATEGORIES:Plenum,Unterlagen
END:VEVENT
BEGIN:VEVENT
DTSTART;TZID=Europe/Berlin:20251117T190000
DTEND;TZID=Europe/Berlin:20251117T190000
DTSTAMP:20260424T125034
CREATED:20251111T180011Z
LAST-MODIFIED:20251111T212221Z
UID:12727-1763406000-1763406000@bb-vaihingen.de
SUMMARY:Öffentliche Sitzung der BbV-Fraktion
DESCRIPTION:Vor der nächsten Sitzung des Gemeinderates. Die Themen richten sich nach der Tagesordnung des Gemeinderates
URL:https://bb-vaihingen.de/event/oeffentliche-sitzung-der-bbv-fraktion-11/
LOCATION:Gasthaus »Zum Engel«\, Stuttgarter Straße 2\, Vaihingen an der Enz\, 71665\, Deutschland
CATEGORIES:Fraktionssitzung,Plenum
END:VEVENT
BEGIN:VEVENT
DTSTART;TZID=Europe/Berlin:20251111T190000
DTEND;TZID=Europe/Berlin:20251111T210000
DTSTAMP:20260424T125034
CREATED:20250806T122115Z
LAST-MODIFIED:20250828T135456Z
UID:12523-1762887600-1762894800@bb-vaihingen.de
SUMMARY:Öffentliche Sitzung der BbV-Fraktion
DESCRIPTION:Vor der nächsten Sitzung des Gemeinderates. Die Themen richten sich nach der Tagesordnung des Gemeinderates
URL:https://bb-vaihingen.de/event/oeffentliche-sitzung-der-bbv-fraktion-9/
LOCATION:Gasthaus »Zum Engel«\, Stuttgarter Straße 2\, Vaihingen an der Enz\, 71665\, Deutschland
CATEGORIES:Fraktionssitzung,Plenum
END:VEVENT
BEGIN:VEVENT
DTSTART;TZID=Europe/Berlin:20251109T110000
DTEND;TZID=Europe/Berlin:20251109T150000
DTSTAMP:20260424T125034
CREATED:20250927T205617Z
LAST-MODIFIED:20251021T115825Z
UID:12559-1762686000-1762700400@bb-vaihingen.de
SUMMARY:Führung im Bauernkriegsmuseum in Böblingen
DESCRIPTION:Führung zur derzeitigen Sonderausstellung »500 Jahre Bauernkrieg« \n\n\n\n\n\nWir treffen uns zur Fahrt mit dem Zug am Bahnhof Vaihingen um 11 Uhr. Die Führung beginnt um 13 Uhr.  \n\n\n\nEinladung im BbVBlog \n\n\n\nDeutsches Bauernkriegsmuseum
URL:https://bb-vaihingen.de/event/fuehrung-im-bauernkriegsmuseum-in-boeblingen/
LOCATION:Bauernkriegsmuseum Böblingen\, Pfarrgasse 2\, Böblingen\, Germany
END:VEVENT
BEGIN:VEVENT
DTSTART;TZID=Europe/Berlin:20251029T190000
DTEND;TZID=Europe/Berlin:20251029T210000
DTSTAMP:20260424T125034
CREATED:20250806T121310Z
LAST-MODIFIED:20250828T135538Z
UID:12513-1761764400-1761771600@bb-vaihingen.de
SUMMARY:BbV-Plenum | »Besprechung der neuen Sitzungsunterlagen für November«
DESCRIPTION:Wir besprechen die Unterlagen der aktuellen Sitzungsrunde. Alle Interessierten sind herzlich willkommen.
URL:https://bb-vaihingen.de/event/bbv-plenum-besprechung-der-neuen-sitzungsunterlagen-im-november/
LOCATION:Gasthaus »Zum Engel«\, Stuttgarter Straße 2\, Vaihingen an der Enz\, 71665\, Deutschland
CATEGORIES:Plenum,Unterlagen
END:VEVENT
BEGIN:VEVENT
DTSTART;TZID=Europe/Berlin:20251020T190000
DTEND;TZID=Europe/Berlin:20251020T210000
DTSTAMP:20260424T125034
CREATED:20250806T122021Z
LAST-MODIFIED:20250828T135456Z
UID:12521-1760986800-1760994000@bb-vaihingen.de
SUMMARY:Öffentliche Sitzung der BbV-Fraktion
DESCRIPTION:Vor der nächsten Sitzung des Gemeinderates. Die Themen richten sich nach der Tagesordnung des Gemeinderates
URL:https://bb-vaihingen.de/event/oeffentliche-sitzung-der-bbv-fraktion-8/
LOCATION:Gasthaus »Zum Engel«\, Stuttgarter Straße 2\, Vaihingen an der Enz\, 71665\, Deutschland
CATEGORIES:Fraktionssitzung,Plenum
END:VEVENT
BEGIN:VEVENT
DTSTART;TZID=Europe/Berlin:20251001T190000
DTEND;TZID=Europe/Berlin:20251001T210000
DTSTAMP:20260424T125034
CREATED:20250806T121049Z
LAST-MODIFIED:20250828T135538Z
UID:12511-1759345200-1759352400@bb-vaihingen.de
SUMMARY:BbV-Plenum | »Besprechung der neuen Sitzungsunterlagen für Oktober«
DESCRIPTION:Wir besprechen die Unterlagen der aktuellen Sitzungsrunde. Alle Interessierten sind herzlich willkommen.
URL:https://bb-vaihingen.de/event/bbv-plenum-besprechung-der-neuen-sitzungsunterlagen-im-oktober/
LOCATION:Gasthaus »Zum Engel«\, Stuttgarter Straße 2\, Vaihingen an der Enz\, 71665\, Deutschland
CATEGORIES:Plenum,Unterlagen
END:VEVENT
BEGIN:VEVENT
DTSTART;TZID=Europe/Berlin:20250923T190000
DTEND;TZID=Europe/Berlin:20250923T210000
DTSTAMP:20260424T125034
CREATED:20250806T121924Z
LAST-MODIFIED:20250828T135456Z
UID:12519-1758654000-1758661200@bb-vaihingen.de
SUMMARY:Öffentliche Sitzung der BbV-Fraktion
DESCRIPTION:Vor der nächsten Sitzung des Gemeinderates. Die Themen richten sich nach der Tagesordnung des Gemeinderates
URL:https://bb-vaihingen.de/event/oeffentliche-sitzung-der-bbv-fraktion-7/
LOCATION:Gasthaus »Zum Engel«\, Stuttgarter Straße 2\, Vaihingen an der Enz\, 71665\, Deutschland
CATEGORIES:Fraktionssitzung,Plenum
END:VEVENT
BEGIN:VEVENT
DTSTART;TZID=Europe/Berlin:20250919T150000
DTEND;TZID=Europe/Berlin:20250919T200000
DTSTAMP:20260424T125034
CREATED:20250909T084652Z
LAST-MODIFIED:20250909T142126Z
UID:12533-1758294000-1758312000@bb-vaihingen.de
SUMMARY:Exkursion: »Von Streuobstwiesen bis Mostverkostung«
DESCRIPTION:Die Wählervereinigung Bürger bewegen Vaihingen (BbV) lädt ein am  \n\n\n\nFreitag\, den 19.9.2025\, um 15 Uhr \n\n\n\nzu einer informativen Exkursion mit Georg Hüeber aus Gündelbach.  \n\n\n\nGeorg Hüeber \n\n\n\nist Baumwart im Landratsamt Ludwigsburg für den Fachbereich Straßen\,  gelernter Forstwirt\, erfahrener Streuobstwiesenbewirtschafter und leidenschaftlicher Hobbygärtner. Mit seinem breiten Fachwissen wird er spannende Einblicke rund um das Thema Bäume\, Grünflächen und Streuobstwiesen geben. \n\n\n\nTreffpunkt\n\n\n\nWir treffen uns um 15 Uhr mit unseren Fahrzeugen am P+R-Parkplatz – 600 Meter nach dem Vaihingen Bahnhof an der Landstraße Richtung Illingen/perfekter Standort auf der rechten Seite gelegen. \n\n\n\nZur Kartenansicht ↗ \n\n\n\nDer Weg vom Bahnhof zum Parkplatz ↗ \n\n\n\nProgramm\n\n\n\nDort erfahren wir Wissenswertes über das sog. „Straßenbegleitgrün“. Dann bilden wir Fahrgemeinschaften und besuchen  verschiedene Streuobstwiesen in Ensingen und Gündelbach. \n\n\n\nZum Abschluß sind wir in Gündelbach zur Mostverkostung eingeladen und erfahren auch noch Wissenswertes zum Thema Fassadenbegrünung. \n\n\n\n\n\n\n\nSeit ihrer Gründung nach dem Bürgerentscheid gegen den Abriss des Enßle-Gebäudes und der Überbauung eines Teils der Bürgergärten vor der Stadtmauer Vaihingen setzt sich die BbV konsequent für den Erhalt und Ausbau von Baum- und Grünflächen im gesamten Stadtgebiet mit allen Teilorten ein. \n\n\n\nAlle interessierten Bürger sind herzlich eingeladen\, die Teilnahme ist kostenlos. \n\n\n\nWir bitten um Anmeldung per E-Mail an Doro Braun-Mayr
URL:https://bb-vaihingen.de/event/exkursion-von-streuobstwiesen-bis-mostverkostung/
END:VEVENT
BEGIN:VEVENT
DTSTART;TZID=Europe/Berlin:20250916T190000
DTEND;TZID=Europe/Berlin:20250916T210000
DTSTAMP:20260424T125034
CREATED:20250828T134623Z
LAST-MODIFIED:20250828T135308Z
UID:12528-1758049200-1758056400@bb-vaihingen.de
SUMMARY:Offenes BbV-Plenum im September
DESCRIPTION:Was uns in der Kommunalpolitik bewegt! Alle zwei Monate treffen wir uns im »Gasthaus Engel« zum offenen Plenum. Frei von Sachzwängen sprechen wir über das\, was uns bewegt. Dabei diskutieren wir auch über neue Ideen\, geplante Aktionen und anstehende Veranstaltungen. Alle\, die sich für die Kommunalpolitik in Vaihingen an der Enz interessieren\, sind herzlich willkommen – um mitzudiskutieren oder einfach nur zuzuhören. 
URL:https://bb-vaihingen.de/event/offenes-bbv-plenum-im-september/
LOCATION:Gasthaus »Zum Engel«\, Stuttgarter Straße 2\, Vaihingen an der Enz\, 71665\, Deutschland
CATEGORIES:Plenum
END:VEVENT
BEGIN:VEVENT
DTSTART;TZID=Europe/Berlin:20250909T190000
DTEND;TZID=Europe/Berlin:20250909T210000
DTSTAMP:20260424T125034
CREATED:20250806T111250Z
LAST-MODIFIED:20250828T135538Z
UID:12509-1757444400-1757451600@bb-vaihingen.de
SUMMARY:BbV-Plenum | »Besprechung der neuen Sitzungsunterlagen im September«
DESCRIPTION:Wir besprechen die Unterlagen der aktuellen Sitzungsrunde. Alle Interessierten sind herzlich willkommen.
URL:https://bb-vaihingen.de/event/bbv-plenum-besprechung-der-neuen-sitzungsunterlagen-im-september/
LOCATION:Gasthaus »Zum Engel«\, Stuttgarter Straße 2\, Vaihingen an der Enz\, 71665\, Deutschland
CATEGORIES:Plenum,Unterlagen
END:VEVENT
BEGIN:VEVENT
DTSTART;TZID=Europe/Berlin:20250728T190000
DTEND;TZID=Europe/Berlin:20250728T210000
DTSTAMP:20260424T125034
CREATED:20250104T193256Z
LAST-MODIFIED:20250828T135456Z
UID:12293-1753729200-1753736400@bb-vaihingen.de
SUMMARY:Öffentliche Sitzung der BbV-Fraktion
DESCRIPTION:Vor der 6. Sitzung des Gemeinderates am 30. Juli \n\n\n\nDie Themen richten sich nach der Tagesordnung des Gemeinderates
URL:https://bb-vaihingen.de/event/oeffentliche-sitzung-der-bbv-fraktion-6/
LOCATION:Gasthaus »Zum Engel«\, Stuttgarter Straße 2\, Vaihingen an der Enz\, 71665\, Deutschland
CATEGORIES:Fraktionssitzung
END:VEVENT
BEGIN:VEVENT
DTSTART;TZID=Europe/Berlin:20250723T190000
DTEND;TZID=Europe/Berlin:20250723T220000
DTSTAMP:20260424T125034
CREATED:20250216T174133Z
LAST-MODIFIED:20250513T213243Z
UID:12336-1753297200-1753308000@bb-vaihingen.de
SUMMARY:Offenes BbV-Plenum im Juli
DESCRIPTION:Was uns in der Kommunalpolitik bewegt!\n\n\n\nAlle zwei Monate treffen wir uns im »Gasthaus Engel« zum offenen Plenum\, um frei von Sachzwängen über das zu sprechen\, was uns bewegt. Dabei diskutieren wir auch über neue Ideen\, geplante Aktionen und anstehende Veranstaltungen.  \n\n\n\nAlle\, die sich für die Kommunalpolitik in Vaihingen an der Enz interessieren\, sind herzlich willkommen – um mitzudiskutieren oder einfach nur zuzuhören. 
URL:https://bb-vaihingen.de/event/offenes-bbv-plenum-im-juli/
LOCATION:Gasthaus »Zum Engel«\, Stuttgarter Straße 2\, Vaihingen an der Enz\, 71665\, Deutschland
ATTACH;FMTTYPE=image/webp:https://bb-vaihingen.de/wp-content/uploads/2024/05/Engel-scaled.webp
END:VEVENT
BEGIN:VEVENT
DTSTART;TZID=Europe/Berlin:20250711T190000
DTEND;TZID=Europe/Berlin:20250711T210000
DTSTAMP:20260424T125034
CREATED:20250104T182732Z
LAST-MODIFIED:20250104T182757Z
UID:12278-1752260400-1752267600@bb-vaihingen.de
SUMMARY:BbV-Plenum | »Besprechung der neuen Sitzungsunterlagen im Juli«
DESCRIPTION:Ausnamsweise besprechen die Unterlagen der aktuellen Sitzungsrunde an einem Freitag. Alle Interessierten sind herzlich willkommen.
URL:https://bb-vaihingen.de/event/bbv-plenum-besprechung-der-neuen-sitzungsunterlagen-im-juli/
LOCATION:Gasthaus »Zum Engel«\, Stuttgarter Straße 2\, Vaihingen an der Enz\, 71665\, Deutschland
CATEGORIES:Plenum
END:VEVENT
BEGIN:VEVENT
DTSTART;TZID=Europe/Berlin:20250707T190000
DTEND;TZID=Europe/Berlin:20250707T210000
DTSTAMP:20260424T125034
CREATED:20250104T193106Z
LAST-MODIFIED:20250828T135456Z
UID:12291-1751914800-1751922000@bb-vaihingen.de
SUMMARY:Öffentliche Sitzung der BbV-Fraktion
DESCRIPTION:Vor der 5. Sitzung des Gemeinderates am 9. Juli \n\n\n\nDie Themen richten sich nach der Tagesordnung des Gemeinderates
URL:https://bb-vaihingen.de/event/oeffentliche-sitzung-der-bbv-fraktion-5/
LOCATION:Gasthaus »Zum Engel«\, Stuttgarter Straße 2\, Vaihingen an der Enz\, 71665\, Deutschland
CATEGORIES:Fraktionssitzung
END:VEVENT
BEGIN:VEVENT
DTSTART;TZID=Europe/Berlin:20250618T190000
DTEND;TZID=Europe/Berlin:20250618T210000
DTSTAMP:20260424T125034
CREATED:20250104T182645Z
LAST-MODIFIED:20250104T182711Z
UID:12276-1750273200-1750280400@bb-vaihingen.de
SUMMARY:BbV-Plenum | »Besprechung der neuen Sitzungsunterlagen im Juni«
DESCRIPTION:Wir besprechen die Unterlagen der aktuellen Sitzungsrunde. Alle Interessierten sind herzlich willkommen.
URL:https://bb-vaihingen.de/event/bbv-plenum-besprechung-der-neuen-sitzungsunterlagen-im-juni/
LOCATION:Gasthaus »Zum Engel«\, Stuttgarter Straße 2\, Vaihingen an der Enz\, 71665\, Deutschland
CATEGORIES:Plenum
END:VEVENT
BEGIN:VEVENT
DTSTART;TZID=Europe/Berlin:20250530T190000
DTEND;TZID=Europe/Berlin:20250530T203000
DTSTAMP:20260424T125034
CREATED:20250513T211429Z
LAST-MODIFIED:20250513T213328Z
UID:12355-1748631600-1748637000@bb-vaihingen.de
SUMMARY:Einladung zur Führung durch die »Bürgergärten in den Köpfwiesen«
DESCRIPTION:mit Stadtrat Andreas Schuller (BbV)\n\n\n\nDie Vaihinger Bürgergärten – zwischen Vergangenheit und Zukunft\n\n\n\n\n\n\n\nDie Bürgergärten in den Köpfwiesen sind ein besonderes Zeugnis städtischer Gartenkultur an den Ufern der Enz. Seit Jahrhunderten werden sie von ihren Pächtern bewirtschaftet und gepflegt. \n\n\n\nStadtrat und Stadtführer Andreas Schuller lädt zu einer informativen und kurzweiligen Führung durch dieses grüne Refugium ein. Dabei geht es nicht nur um die Geschichte und Bedeutung der Gärten\, sondern auch um die aktuellen Entwicklungen und Perspektiven im Zuge der geplanten Gartenschau 2029\, die unmittelbare Auswirkungen auf das Gebiet der Köpfwiesen haben werden.  \n\n\n\nWir treffen uns um 19 Uhr zwischen Enßle-Gebäude und Köpfwiesen-Parkhaus. Zur Kartenansicht. \n\n\n\nEine Anmeldung ist nicht erforderlich.  \n\n\n\nWir freuen uns auf Ihr Kommen und einen anregenden Austausch vor Ort!
URL:https://bb-vaihingen.de/event/einladung-zur-fuehrung-durch-die-buergergaerten-in-den-koepfwiesen/
LOCATION:Parkplatz Köpfwiesen\, Köpfwiesenweg\, Vaihingen an der Enz\, 71665\, Germany
END:VEVENT
BEGIN:VEVENT
DTSTART;TZID=Europe/Berlin:20250526T190000
DTEND;TZID=Europe/Berlin:20250526T210000
DTSTAMP:20260424T125034
CREATED:20250104T192907Z
LAST-MODIFIED:20250104T193524Z
UID:12289-1748286000-1748293200@bb-vaihingen.de
SUMMARY:Öffentliche Sitzung der BbV-Fraktion
DESCRIPTION:Vor der 4. Sitzung des Gemeinderates am 28. Mai \n\n\n\nDie Themen richten sich nach der Tagesordnung des Gemeinderates
URL:https://bb-vaihingen.de/event/oeffentliche-sitzung-der-bbv-fraktion-4/
LOCATION:Gasthaus »Zum Engel«\, Stuttgarter Straße 2\, Vaihingen an der Enz\, 71665\, Deutschland
CATEGORIES:Fraktionssitzung
END:VEVENT
END:VCALENDAR