BEGIN:VCALENDAR
VERSION:2.0
PRODID:-//Bürger bewegen Vaihingen an der Enz - ECPv6.15.20//NONSGML v1.0//EN
CALSCALE:GREGORIAN
METHOD:PUBLISH
X-WR-CALNAME:Bürger bewegen Vaihingen an der Enz
X-ORIGINAL-URL:https://bb-vaihingen.de
X-WR-CALDESC:Veranstaltungen für Bürger bewegen Vaihingen an der Enz
REFRESH-INTERVAL;VALUE=DURATION:PT1H
X-Robots-Tag:noindex
X-PUBLISHED-TTL:PT1H
BEGIN:VTIMEZONE
TZID:Europe/Berlin
BEGIN:DAYLIGHT
TZOFFSETFROM:+0100
TZOFFSETTO:+0200
TZNAME:CEST
DTSTART:20250330T010000
END:DAYLIGHT
BEGIN:STANDARD
TZOFFSETFROM:+0200
TZOFFSETTO:+0100
TZNAME:CET
DTSTART:20251026T010000
END:STANDARD
BEGIN:DAYLIGHT
TZOFFSETFROM:+0100
TZOFFSETTO:+0200
TZNAME:CEST
DTSTART:20260329T010000
END:DAYLIGHT
BEGIN:STANDARD
TZOFFSETFROM:+0200
TZOFFSETTO:+0100
TZNAME:CET
DTSTART:20261025T010000
END:STANDARD
BEGIN:DAYLIGHT
TZOFFSETFROM:+0100
TZOFFSETTO:+0200
TZNAME:CEST
DTSTART:20270328T010000
END:DAYLIGHT
BEGIN:STANDARD
TZOFFSETFROM:+0200
TZOFFSETTO:+0100
TZNAME:CET
DTSTART:20271031T010000
END:STANDARD
END:VTIMEZONE
BEGIN:VEVENT
DTSTART;TZID=Europe/Berlin:20260428T190000
DTEND;TZID=Europe/Berlin:20260428T210000
DTSTAMP:20260420T041205
CREATED:20260323T090505Z
LAST-MODIFIED:20260323T090507Z
UID:12930-1777402800-1777410000@bb-vaihingen.de
SUMMARY:BbV-Plenum | »Besprechung der neuen Sitzungsunterlagen für Mai«
DESCRIPTION:Dieses Mal fällt das Plenum aus organisatorischen Gründen mit der ›öffentlichen Fraktionssitzung‹ zusammen.  Wir besprechen die Unterlagen der aktuellen Sitzungsrunde. Alle Interessierten sind herzlich willkommen. 
URL:https://bb-vaihingen.de/event/bbv-plenum-besprechung-der-neuen-sitzungsunterlagen-fuer-mai/
LOCATION:Gasthaus »Zum Engel«\, Stuttgarter Straße 2\, Vaihingen an der Enz\, 71665\, Deutschland
END:VEVENT
BEGIN:VEVENT
DTSTART;TZID=Europe/Berlin:20260504T190000
DTEND;TZID=Europe/Berlin:20260504T210000
DTSTAMP:20260420T041205
CREATED:20260409T163532Z
LAST-MODIFIED:20260409T163533Z
UID:12945-1777921200-1777928400@bb-vaihingen.de
SUMMARY:Offenes BbV-Plenum im Mai
DESCRIPTION:Was uns in der Kommunalpolitik bewegt! Alle zwei Monate treffen wir uns im »Gasthaus Engel« zum offenen Plenum. Frei von Sachzwängen sprechen wir über das\, was uns bewegt. Dabei diskutieren wir auch über neue Ideen\, geplante Aktionen und anstehende Veranstaltungen. Alle\, die sich für die Kommunalpolitik in Vaihingen an der Enz interessieren\, sind herzlich willkommen – um mitzudiskutieren oder einfach nur zuzuhören. 
URL:https://bb-vaihingen.de/event/offenes-bbv-plenum-im-mai-2/
LOCATION:Gasthaus »Zum Engel«\, Stuttgarter Straße 2\, Vaihingen an der Enz\, 71665\, Deutschland
END:VEVENT
BEGIN:VEVENT
DTSTART;TZID=Europe/Berlin:20260519T190000
DTEND;TZID=Europe/Berlin:20260519T210000
DTSTAMP:20260420T041205
CREATED:20260323T091140Z
LAST-MODIFIED:20260323T091141Z
UID:12934-1779217200-1779224400@bb-vaihingen.de
SUMMARY:Öffentliche Sitzung der BbV-Fraktion im Mai
DESCRIPTION:Vor der nächsten Sitzung des Gemeinderates. Die Themen richten sich nach der Tagesordnung des Gemeinderates.
URL:https://bb-vaihingen.de/event/oeffentliche-sitzung-der-bbv-fraktion-im-mai/
LOCATION:Gasthaus »Zum Engel«\, Stuttgarter Straße 2\, Vaihingen an der Enz\, 71665\, Deutschland
END:VEVENT
BEGIN:VEVENT
DTSTART;TZID=Europe/Berlin:20260603T190000
DTEND;TZID=Europe/Berlin:20260603T210000
DTSTAMP:20260420T041205
CREATED:20260323T085647Z
LAST-MODIFIED:20260323T085553Z
UID:12926-1780513200-1780520400@bb-vaihingen.de
SUMMARY:BbV-Plenum | »Besprechung der neuen Sitzungsunterlagen für Juni«
DESCRIPTION:Wir besprechen die Unterlagen der aktuellen Sitzungsrunde. Alle Interessierten sind herzlich willkommen.  \n\n\n\nDas ›Gasthaus Engel‹ steht uns dieses Mal nicht zur Verfügung. Der Veranstaltungsort wird rechtzeitig bekannt gegeben.
URL:https://bb-vaihingen.de/event/bbv-plenum-besprechung-der-neuen-sitzungsunterlagen-fuer-juni/
END:VEVENT
BEGIN:VEVENT
DTSTART;TZID=Europe/Berlin:20260623T190000
DTEND;TZID=Europe/Berlin:20260623T210000
DTSTAMP:20260420T041205
CREATED:20260323T091245Z
LAST-MODIFIED:20260323T091247Z
UID:12936-1782241200-1782248400@bb-vaihingen.de
SUMMARY:Öffentliche Sitzung der BbV-Fraktion im Juni
DESCRIPTION:Vor der nächsten Sitzung des Gemeinderates. Die Themen richten sich nach der Tagesordnung des Gemeinderates.
URL:https://bb-vaihingen.de/event/oeffentliche-sitzung-der-bbv-fraktion-im-juni/
LOCATION:Gasthaus »Zum Engel«\, Stuttgarter Straße 2\, Vaihingen an der Enz\, 71665\, Deutschland
END:VEVENT
BEGIN:VEVENT
DTSTART;TZID=Europe/Berlin:20260701T190000
DTEND;TZID=Europe/Berlin:20260701T210000
DTSTAMP:20260420T041205
CREATED:20260323T085821Z
LAST-MODIFIED:20260323T085824Z
UID:12928-1782932400-1782939600@bb-vaihingen.de
SUMMARY:BbV-Plenum | »Besprechung der neuen Sitzungsunterlagen für Juli«
DESCRIPTION:Wir besprechen die Unterlagen der aktuellen Sitzungsrunde. Alle Interessierten sind herzlich willkommen. 
URL:https://bb-vaihingen.de/event/bbv-plenum-besprechung-der-neuen-sitzungsunterlagen-fuer-juli/
LOCATION:Gasthaus »Zum Engel«\, Stuttgarter Straße 2\, Vaihingen an der Enz\, 71665\, Deutschland
END:VEVENT
BEGIN:VEVENT
DTSTART;TZID=Europe/Berlin:20260721T190000
DTEND;TZID=Europe/Berlin:20260721T210000
DTSTAMP:20260420T041205
CREATED:20260323T091421Z
LAST-MODIFIED:20260323T092746Z
UID:12938-1784660400-1784667600@bb-vaihingen.de
SUMMARY:Öffentliche Sitzung der BbV-Fraktion im Juli
DESCRIPTION:Vor der nächsten Sitzung des Gemeinderates. Die Themen richten sich nach der Tagesordnung des Gemeinderates.
URL:https://bb-vaihingen.de/event/oeffentliche-sitzung-der-bbv-fraktion-im-juli/
LOCATION:Gasthaus »Zum Engel«\, Stuttgarter Straße 2\, Vaihingen an der Enz\, 71665\, Deutschland
END:VEVENT
BEGIN:VEVENT
DTSTART;TZID=Europe/Berlin:20260727T190000
DTEND;TZID=Europe/Berlin:20260727T210000
DTSTAMP:20260420T041205
CREATED:20260409T163720Z
LAST-MODIFIED:20260409T163723Z
UID:12947-1785178800-1785186000@bb-vaihingen.de
SUMMARY:Offenes BbV-Plenum im Juli
DESCRIPTION:Was uns in der Kommunalpolitik bewegt! Alle zwei Monate treffen wir uns im »Gasthaus Engel« zum offenen Plenum. Frei von Sachzwängen sprechen wir über das\, was uns bewegt. Dabei diskutieren wir auch über neue Ideen\, geplante Aktionen und anstehende Veranstaltungen. Alle\, die sich für die Kommunalpolitik in Vaihingen an der Enz interessieren\, sind herzlich willkommen – um mitzudiskutieren oder einfach nur zuzuhören. 
URL:https://bb-vaihingen.de/event/offenes-bbv-plenum-im-juli-2/
LOCATION:Gasthaus »Zum Engel«\, Stuttgarter Straße 2\, Vaihingen an der Enz\, 71665\, Deutschland
END:VEVENT
END:VCALENDAR