BEGIN:VCALENDAR
VERSION:2.0
PRODID:-//Bürger bewegen Vaihingen an der Enz - ECPv6.15.20//NONSGML v1.0//EN
CALSCALE:GREGORIAN
METHOD:PUBLISH
X-WR-CALNAME:Bürger bewegen Vaihingen an der Enz
X-ORIGINAL-URL:https://bb-vaihingen.de
X-WR-CALDESC:Veranstaltungen für Bürger bewegen Vaihingen an der Enz
REFRESH-INTERVAL;VALUE=DURATION:PT1H
X-Robots-Tag:noindex
X-PUBLISHED-TTL:PT1H
BEGIN:VTIMEZONE
TZID:Europe/Berlin
BEGIN:DAYLIGHT
TZOFFSETFROM:+0100
TZOFFSETTO:+0200
TZNAME:CEST
DTSTART:20220327T010000
END:DAYLIGHT
BEGIN:STANDARD
TZOFFSETFROM:+0200
TZOFFSETTO:+0100
TZNAME:CET
DTSTART:20221030T010000
END:STANDARD
BEGIN:DAYLIGHT
TZOFFSETFROM:+0100
TZOFFSETTO:+0200
TZNAME:CEST
DTSTART:20230326T010000
END:DAYLIGHT
BEGIN:STANDARD
TZOFFSETFROM:+0200
TZOFFSETTO:+0100
TZNAME:CET
DTSTART:20231029T010000
END:STANDARD
BEGIN:DAYLIGHT
TZOFFSETFROM:+0100
TZOFFSETTO:+0200
TZNAME:CEST
DTSTART:20240331T010000
END:DAYLIGHT
BEGIN:STANDARD
TZOFFSETFROM:+0200
TZOFFSETTO:+0100
TZNAME:CET
DTSTART:20241027T010000
END:STANDARD
END:VTIMEZONE
BEGIN:VEVENT
DTSTART;TZID=Europe/Berlin:20230906T190000
DTEND;TZID=Europe/Berlin:20230906T210000
DTSTAMP:20260426T013815
CREATED:20221229T160141Z
LAST-MODIFIED:20221229T160142Z
UID:9642-1694026800-1694034000@bb-vaihingen.de
SUMMARY:BbV-Plenum “Besprechung der neuen Sitzungsunterlagen”
DESCRIPTION:Wir besprechen die Unterlagen der  aktuellen Sitzungsrunde. Alle Interessierte sind herzlich willkommen.
URL:https://bb-vaihingen.de/event/bbv-plenum-besprechung-der-neuen-sitzungsunterlagen-23/
LOCATION:Gasthaus »Zum Engel«\, Stuttgarter Straße 2\, Vaihingen an der Enz\, 71665\, Deutschland
CATEGORIES:Plenum,Unterlagen
ATTACH;FMTTYPE=image/jpeg:https://bb-vaihingen.de/wp-content/uploads/2020/05/Online-Sitzungen-BbV-scaled.jpg
END:VEVENT
BEGIN:VEVENT
DTSTART;TZID=Europe/Berlin:20230911T180000
DTEND;TZID=Europe/Berlin:20230911T210000
DTSTAMP:20260426T013815
CREATED:20221106T143904Z
LAST-MODIFIED:20221106T143941Z
UID:9387-1694455200-1694466000@bb-vaihingen.de
SUMMARY:Stadtteilausschuss
DESCRIPTION:7. Sitzung des Stadtteilausschusses
URL:https://bb-vaihingen.de/event/stadtteilausschuss-11/
CATEGORIES:Sitzung
END:VEVENT
BEGIN:VEVENT
DTSTART;TZID=Europe/Berlin:20230912T180000
DTEND;TZID=Europe/Berlin:20230912T210000
DTSTAMP:20260426T013815
CREATED:20221106T150413Z
LAST-MODIFIED:20221106T150413Z
UID:9417-1694541600-1694552400@bb-vaihingen.de
SUMMARY:Jugendgemeinderat
DESCRIPTION:7. Sitzung des Jugendgemeinderates
URL:https://bb-vaihingen.de/event/jugendgemeinderat-22/
CATEGORIES:Sitzung
END:VEVENT
BEGIN:VEVENT
DTSTART;TZID=Europe/Berlin:20230913T180000
DTEND;TZID=Europe/Berlin:20230913T210000
DTSTAMP:20260426T013815
CREATED:20221106T152221Z
LAST-MODIFIED:20221106T152221Z
UID:9443-1694628000-1694638800@bb-vaihingen.de
SUMMARY:Sozial- und Kulturausschuss
DESCRIPTION:7. Sitzung des Sozial- und Kulturausschusses
URL:https://bb-vaihingen.de/event/sozial-und-kulturausschuss-10/
CATEGORIES:Sitzung
END:VEVENT
BEGIN:VEVENT
DTSTART;TZID=Europe/Berlin:20230918T180000
DTEND;TZID=Europe/Berlin:20230918T210000
DTSTAMP:20260426T013815
CREATED:20221106T153934Z
LAST-MODIFIED:20221106T153934Z
UID:9467-1695060000-1695070800@bb-vaihingen.de
SUMMARY:Finanz- und Verwaltungsausschuss
DESCRIPTION:7. Sitzung des Finanz- und Verwaltungsausschusses
URL:https://bb-vaihingen.de/event/finanz-und-verwaltungsausschuss-10/
CATEGORIES:Sitzung
END:VEVENT
BEGIN:VEVENT
DTSTART;TZID=Europe/Berlin:20230918T190000
DTEND;TZID=Europe/Berlin:20230918T220000
DTSTAMP:20260426T013815
CREATED:20221229T161239Z
LAST-MODIFIED:20221229T161240Z
UID:9662-1695063600-1695074400@bb-vaihingen.de
SUMMARY:Ideen und was euch und uns umtreibt
DESCRIPTION:Wir besprechen mit euch Ideen für Aktionen\, Veranstaltungen\, usw. und was euch und uns bewegt. Ihr seid herzlich eingeladen uns zu besuchen\, mit zu machen oder uns einfach kennen zu lernen.
URL:https://bb-vaihingen.de/event/ideen-und-was-euch-und-uns-umtreibt-10/
LOCATION:Gasthaus »Zum Engel«\, Stuttgarter Straße 2\, Vaihingen an der Enz\, 71665\, Deutschland
CATEGORIES:Plenum
END:VEVENT
BEGIN:VEVENT
DTSTART;TZID=Europe/Berlin:20230920T180000
DTEND;TZID=Europe/Berlin:20230920T210000
DTSTAMP:20260426T013815
CREATED:20221106T154944Z
LAST-MODIFIED:20221106T154945Z
UID:9484-1695232800-1695243600@bb-vaihingen.de
SUMMARY:Technischer Ausschuss
DESCRIPTION:7. Sitzung des Technischen Auschusses
URL:https://bb-vaihingen.de/event/technischer-ausschuss-7/
CATEGORIES:Sitzung
END:VEVENT
BEGIN:VEVENT
DTSTART;TZID=Europe/Berlin:20230925T190000
DTEND;TZID=Europe/Berlin:20230925T210000
DTSTAMP:20260426T013815
CREATED:20221106T165824Z
LAST-MODIFIED:20221106T165825Z
UID:9540-1695668400-1695675600@bb-vaihingen.de
SUMMARY:Öffentliche Fraktionssitzung
DESCRIPTION:Wir besprechen die Themen der nächsten Gemeinderatssitzung
URL:https://bb-vaihingen.de/event/oeffentliche-fraktionssitzung-8/
LOCATION:Gasthaus »Zum Engel«\, Stuttgarter Straße 2\, Vaihingen an der Enz\, 71665\, Deutschland
CATEGORIES:Sitzung
END:VEVENT
BEGIN:VEVENT
DTSTART;TZID=Europe/Berlin:20230927T180000
DTEND;TZID=Europe/Berlin:20230927T210000
DTSTAMP:20260426T013815
CREATED:20221106T161449Z
LAST-MODIFIED:20221106T161524Z
UID:9517-1695837600-1695848400@bb-vaihingen.de
SUMMARY:Gemeinderat
DESCRIPTION:7. Sitzung des Gemeinderates
URL:https://bb-vaihingen.de/event/gemeinderat-7/
CATEGORIES:Sitzung
END:VEVENT
END:VCALENDAR