BEGIN:VCALENDAR
VERSION:2.0
PRODID:-//Bürger bewegen Vaihingen an der Enz - ECPv6.15.20//NONSGML v1.0//EN
CALSCALE:GREGORIAN
METHOD:PUBLISH
X-ORIGINAL-URL:https://bb-vaihingen.de
X-WR-CALDESC:Veranstaltungen für Bürger bewegen Vaihingen an der Enz
REFRESH-INTERVAL;VALUE=DURATION:PT1H
X-Robots-Tag:noindex
X-PUBLISHED-TTL:PT1H
BEGIN:VTIMEZONE
TZID:Europe/Berlin
BEGIN:DAYLIGHT
TZOFFSETFROM:+0100
TZOFFSETTO:+0200
TZNAME:CEST
DTSTART:20230326T010000
END:DAYLIGHT
BEGIN:STANDARD
TZOFFSETFROM:+0200
TZOFFSETTO:+0100
TZNAME:CET
DTSTART:20231029T010000
END:STANDARD
BEGIN:DAYLIGHT
TZOFFSETFROM:+0100
TZOFFSETTO:+0200
TZNAME:CEST
DTSTART:20240331T010000
END:DAYLIGHT
BEGIN:STANDARD
TZOFFSETFROM:+0200
TZOFFSETTO:+0100
TZNAME:CET
DTSTART:20241027T010000
END:STANDARD
BEGIN:DAYLIGHT
TZOFFSETFROM:+0100
TZOFFSETTO:+0200
TZNAME:CEST
DTSTART:20250330T010000
END:DAYLIGHT
BEGIN:STANDARD
TZOFFSETFROM:+0200
TZOFFSETTO:+0100
TZNAME:CET
DTSTART:20251026T010000
END:STANDARD
END:VTIMEZONE
BEGIN:VEVENT
DTSTART;TZID=Europe/Berlin:20240109T190000
DTEND;TZID=Europe/Berlin:20240109T220000
DTSTAMP:20260425T200701
CREATED:20231220T100559Z
LAST-MODIFIED:20240213T094229Z
UID:10235-1704826800-1704837600@bb-vaihingen.de
SUMMARY:Ideen und was euch und uns umtreibt
DESCRIPTION:Wir besprechen mit euch Ideen für Aktionen\, Veranstaltungen\, usw. und was euch und uns bewegt. Ihr seid herzlich eingeladen uns zu besuchen\, mitzumachen oder uns einfach kennen zu lernen.
URL:https://bb-vaihingen.de/event/ideen-und-was-euch-und-uns-umtreibt-12/
LOCATION:Gasthaus »Zum Engel«\, Stuttgarter Straße 2\, Vaihingen an der Enz\, 71665\, Deutschland
CATEGORIES:Plenum
END:VEVENT
BEGIN:VEVENT
DTSTART;TZID=Europe/Berlin:20240116T190000
DTEND;TZID=Europe/Berlin:20240116T210000
DTSTAMP:20260425T200701
CREATED:20231122T135652Z
LAST-MODIFIED:20240113T171524Z
UID:10186-1705431600-1705438800@bb-vaihingen.de
SUMMARY:BbV-Plenum “Besprechung der neuen Sitzungsunterlagen”
DESCRIPTION:Wir besprechen die Unterlagen der  aktuellen Sitzungsrunde. Alle Interessierte sind herzlich willkommen.
URL:https://bb-vaihingen.de/event/bbv-plenum-besprechung-der-neuen-sitzungsunterlagen/
LOCATION:Gasthaus »Zum Engel«\, Stuttgarter Straße 2\, Vaihingen an der Enz\, 71665\, Deutschland
CATEGORIES:Plenum,Unterlagen
ATTACH;FMTTYPE=image/jpeg:https://bb-vaihingen.de/wp-content/uploads/2020/05/Online-Sitzungen-BbV-scaled.jpg
END:VEVENT
BEGIN:VEVENT
DTSTART;TZID=Europe/Berlin:20240122T180000
DTEND;TZID=Europe/Berlin:20240122T210000
DTSTAMP:20260425T200701
CREATED:20231122T100027Z
LAST-MODIFIED:20231122T100059Z
UID:9954-1705946400-1705957200@bb-vaihingen.de
SUMMARY:Stadtteilausschuss
DESCRIPTION:1. Sitzung des Stadtteilausschusses
URL:https://bb-vaihingen.de/event/stadtteilausschuss-13/
CATEGORIES:Sitzung
END:VEVENT
BEGIN:VEVENT
DTSTART;TZID=Europe/Berlin:20240123T180000
DTEND;TZID=Europe/Berlin:20240123T210000
DTSTAMP:20260425T200701
CREATED:20231122T095604Z
LAST-MODIFIED:20231122T143646Z
UID:9950-1706032800-1706043600@bb-vaihingen.de
SUMMARY:Jugendgemeinderat
DESCRIPTION:1. Sitzung des Jugendgemeinderates
URL:https://bb-vaihingen.de/event/jugendgemeinderat/
LOCATION:Rathaus Vaihingen\,  Sitzungssaal\, Marktplatz 1\, Vaihingen an der Enz\, 71665
CATEGORIES:Sitzung
END:VEVENT
BEGIN:VEVENT
DTSTART;TZID=Europe/Berlin:20240123T190000
DTEND;TZID=Europe/Berlin:20240123T210000
DTSTAMP:20260425T200701
CREATED:20231122T132621Z
LAST-MODIFIED:20231122T132639Z
UID:10165-1706036400-1706043600@bb-vaihingen.de
SUMMARY:Ortschaftsrat Roßwag
DESCRIPTION:1. Sitzung des Ortschaftsrates Roßwag
URL:https://bb-vaihingen.de/event/ortschaftsrat-rosswag/
LOCATION:Rathaus Roßwag\, St.-Martin-Straße 2\, Vaihingen an der Enz\, 71665\, Deutschland
CATEGORIES:Sitzung
END:VEVENT
BEGIN:VEVENT
DTSTART;TZID=Europe/Berlin:20240123T193000
DTEND;TZID=Europe/Berlin:20240123T210000
DTSTAMP:20260425T200701
CREATED:20230123T183000Z
LAST-MODIFIED:20240213T093723Z
UID:10078-1706038200-1706043600@bb-vaihingen.de
SUMMARY:Ortschaftsrat Horrheim
DESCRIPTION:1. Sitzung des Ortschaftsrates Horrheim
URL:https://bb-vaihingen.de/event/ortschaftsrat-horrheim/
LOCATION:Rathaus Horrheim\, Alte Marktstraße 3\, Vaihingen an der Enz\, 71665\, Deutschland
CATEGORIES:Sitzung
END:VEVENT
BEGIN:VEVENT
DTSTART;TZID=Europe/Berlin:20240123T193000
DTEND;TZID=Europe/Berlin:20240123T210000
DTSTAMP:20260425T200701
CREATED:20231122T101420Z
LAST-MODIFIED:20231122T101717Z
UID:9970-1706038200-1706043600@bb-vaihingen.de
SUMMARY:Ortschaftsrat Aurich
DESCRIPTION:1. Sitzung des Ortschaftsrates Aurich
URL:https://bb-vaihingen.de/event/ortschaftsrat-aurich-18/
LOCATION:Rathaus Aurich\, Nussdorfer Straße 2\, Vaihingen an der Enz\, 71665\, Deutschland
CATEGORIES:Sitzung
END:VEVENT
BEGIN:VEVENT
DTSTART;TZID=Europe/Berlin:20240123T193000
DTEND;TZID=Europe/Berlin:20240123T210000
DTSTAMP:20260425T200701
CREATED:20231122T110501Z
LAST-MODIFIED:20231122T110635Z
UID:10014-1706038200-1706043600@bb-vaihingen.de
SUMMARY:Ortschaftsrat Ensingen
DESCRIPTION:1. Sitzung des Ortschaftsrates Ensingen
URL:https://bb-vaihingen.de/event/ortschaftsrat-ensingen-19/
LOCATION:Rathaus Ensingen\, Hauptstr. 14\, Vaihingen an der Enz\, 71665\, Deutschland
CATEGORIES:Sitzung
END:VEVENT
BEGIN:VEVENT
DTSTART;TZID=Europe/Berlin:20240123T193000
DTEND;TZID=Europe/Berlin:20240123T210000
DTSTAMP:20260425T200701
CREATED:20231122T111559Z
LAST-MODIFIED:20231122T111820Z
UID:10033-1706038200-1706043600@bb-vaihingen.de
SUMMARY:Ortschaftsrat Enzweihingen
DESCRIPTION:1. Sitzung des Ortschaftsrates Enzweihingen
URL:https://bb-vaihingen.de/event/ortschaftsrat-enzweihingen-19/
LOCATION:Rathaus Enzweihingen\, Vaihinger Str. 2\, Vaihingen an der Enz\, 71665\, Deutschland
CATEGORIES:Sitzung
END:VEVENT
BEGIN:VEVENT
DTSTART;TZID=Europe/Berlin:20240123T193000
DTEND;TZID=Europe/Berlin:20240123T210000
DTSTAMP:20260425T200701
CREATED:20231122T112142Z
LAST-MODIFIED:20231122T112806Z
UID:10045-1706038200-1706043600@bb-vaihingen.de
SUMMARY:Ortschaftsrat Gündelbach
DESCRIPTION:1. Sitzung des Ortschaftsrates Gündelbach
URL:https://bb-vaihingen.de/event/ortschaftsrat-enzweihingen-24/
LOCATION:Alte Schule Gündelbach\, Katharinenstr. 22\, Vaihingen an der Enz\, 71665
CATEGORIES:Sitzung
END:VEVENT
BEGIN:VEVENT
DTSTART;TZID=Europe/Berlin:20240124T180000
DTEND;TZID=Europe/Berlin:20240124T210000
DTSTAMP:20260425T200701
CREATED:20231122T082458Z
LAST-MODIFIED:20231122T083829Z
UID:9886-1706119200-1706130000@bb-vaihingen.de
SUMMARY:Sozial- und Kulturausschuss
DESCRIPTION:1. Sitzung des Sozial- und Kulturausschusses
URL:https://bb-vaihingen.de/event/sozial-und-kulturausschuss-15/
CATEGORIES:Sitzung
END:VEVENT
BEGIN:VEVENT
DTSTART;TZID=Europe/Berlin:20240124T193000
DTEND;TZID=Europe/Berlin:20240124T210000
DTSTAMP:20260425T200701
CREATED:20231122T130332Z
LAST-MODIFIED:20231122T130451Z
UID:10143-1706124600-1706130000@bb-vaihingen.de
SUMMARY:Ortschaftsrat Riet
DESCRIPTION:1. Sitzung des Ortschaftsrates Riet
URL:https://bb-vaihingen.de/event/ortschaftsrat-riet/
LOCATION:Rathaus Kleinglattbach\, Bahnhofstraße 9\, Vaihingen an der Enz\, 71665\, Deutschland
CATEGORIES:Sitzung
END:VEVENT
BEGIN:VEVENT
DTSTART;TZID=Europe/Berlin:20240125T193000
DTEND;TZID=Europe/Berlin:20240125T210000
DTSTAMP:20260425T200701
CREATED:20231122T125445Z
LAST-MODIFIED:20231122T125659Z
UID:10124-1706211000-1706216400@bb-vaihingen.de
SUMMARY:Ortschaftsrat Kleinglattbach
DESCRIPTION:1. Sitzung des Ortschaftsrates Kleinglattbach
URL:https://bb-vaihingen.de/event/ortschaftsrat-kleinglattbach/
LOCATION:Rathaus Kleinglattbach\, Bahnhofstraße 9\, Vaihingen an der Enz\, 71665\, Deutschland
CATEGORIES:Sitzung
END:VEVENT
BEGIN:VEVENT
DTSTART;TZID=Europe/Berlin:20240129T180000
DTEND;TZID=Europe/Berlin:20240129T210000
DTSTAMP:20260425T200701
CREATED:20231122T085820Z
LAST-MODIFIED:20231122T090101Z
UID:9923-1706551200-1706562000@bb-vaihingen.de
SUMMARY:Technischer Ausschuss
DESCRIPTION:1. Sitzung des Technischen Ausschusses
URL:https://bb-vaihingen.de/event/technischer-ausschuss-5/
CATEGORIES:Sitzung
END:VEVENT
BEGIN:VEVENT
DTSTART;TZID=Europe/Berlin:20240131T180000
DTEND;TZID=Europe/Berlin:20240131T210000
DTSTAMP:20260425T200701
CREATED:20231122T083931Z
LAST-MODIFIED:20231122T084202Z
UID:9904-1706724000-1706734800@bb-vaihingen.de
SUMMARY:Finanz- und Verwaltungsausschuss
DESCRIPTION:1. Sitzung des Finanz- und Verwaltungsausschusses
URL:https://bb-vaihingen.de/event/finanz-und-verwaltungsausschuss-14/
CATEGORIES:Sitzung
END:VEVENT
END:VCALENDAR