BEGIN:VCALENDAR
VERSION:2.0
PRODID:-//Bürger bewegen Vaihingen an der Enz - ECPv6.15.20//NONSGML v1.0//EN
CALSCALE:GREGORIAN
METHOD:PUBLISH
X-WR-CALNAME:Bürger bewegen Vaihingen an der Enz
X-ORIGINAL-URL:https://bb-vaihingen.de
X-WR-CALDESC:Veranstaltungen für Bürger bewegen Vaihingen an der Enz
REFRESH-INTERVAL;VALUE=DURATION:PT1H
X-Robots-Tag:noindex
X-PUBLISHED-TTL:PT1H
BEGIN:VTIMEZONE
TZID:Europe/Berlin
BEGIN:DAYLIGHT
TZOFFSETFROM:+0100
TZOFFSETTO:+0200
TZNAME:CEST
DTSTART:20230326T010000
END:DAYLIGHT
BEGIN:STANDARD
TZOFFSETFROM:+0200
TZOFFSETTO:+0100
TZNAME:CET
DTSTART:20231029T010000
END:STANDARD
BEGIN:DAYLIGHT
TZOFFSETFROM:+0100
TZOFFSETTO:+0200
TZNAME:CEST
DTSTART:20240331T010000
END:DAYLIGHT
BEGIN:STANDARD
TZOFFSETFROM:+0200
TZOFFSETTO:+0100
TZNAME:CET
DTSTART:20241027T010000
END:STANDARD
BEGIN:DAYLIGHT
TZOFFSETFROM:+0100
TZOFFSETTO:+0200
TZNAME:CEST
DTSTART:20250330T010000
END:DAYLIGHT
BEGIN:STANDARD
TZOFFSETFROM:+0200
TZOFFSETTO:+0100
TZNAME:CET
DTSTART:20251026T010000
END:STANDARD
END:VTIMEZONE
BEGIN:VEVENT
DTSTART;TZID=Europe/Berlin:20240304T180000
DTEND;TZID=Europe/Berlin:20240304T210000
DTSTAMP:20260425T173536
CREATED:20231122T084249Z
LAST-MODIFIED:20231122T084251Z
UID:9907-1709575200-1709586000@bb-vaihingen.de
SUMMARY:Finanz- und Verwaltungsausschuss
DESCRIPTION:2. Sitzung des Finanz- und Verwaltungsausschusses
URL:https://bb-vaihingen.de/event/finanz-und-verwaltungsausschuss-15/
CATEGORIES:Sitzung
END:VEVENT
BEGIN:VEVENT
DTSTART;TZID=Europe/Berlin:20240306T180000
DTEND;TZID=Europe/Berlin:20240306T210000
DTSTAMP:20260425T173536
CREATED:20231122T090147Z
LAST-MODIFIED:20231122T095024Z
UID:9928-1709748000-1709758800@bb-vaihingen.de
SUMMARY:Technischer Ausschuss
DESCRIPTION:2. Sitzung des Technischen Ausschusses
URL:https://bb-vaihingen.de/event/technischer-ausschuss-15/
CATEGORIES:Sitzung
END:VEVENT
BEGIN:VEVENT
DTSTART;TZID=Europe/Berlin:20240311T190000
DTEND;TZID=Europe/Berlin:20240311T210000
DTSTAMP:20260425T173536
CREATED:20231122T103440Z
LAST-MODIFIED:20231122T103442Z
UID:9994-1710183600-1710190800@bb-vaihingen.de
SUMMARY:Öffentliche Fraktionssitzung
DESCRIPTION:Fraktionssitzung zur 2. Sitzung des Gemeinderates\n\n\n\ndie Tagesordnung richtet sich nach der Tagesordnung des Gemeinderates
URL:https://bb-vaihingen.de/event/oeffentliche-fraktionssitzung-12/
LOCATION:Gasthaus »Zum Engel«\, Stuttgarter Straße 2\, Vaihingen an der Enz\, 71665\, Deutschland
CATEGORIES:Fraktionssitzung,Sitzung
END:VEVENT
BEGIN:VEVENT
DTSTART;TZID=Europe/Berlin:20240313T180000
DTEND;TZID=Europe/Berlin:20240313T210000
DTSTAMP:20260425T173536
CREATED:20231122T073711Z
LAST-MODIFIED:20231122T073712Z
UID:9838-1710352800-1710363600@bb-vaihingen.de
SUMMARY:Gemeinderat
DESCRIPTION:2. Sitzung des Gemeinderates
URL:https://bb-vaihingen.de/event/gemeinderat-13/
CATEGORIES:Sitzung
END:VEVENT
BEGIN:VEVENT
DTSTART;TZID=Europe/Berlin:20240319T190000
DTEND;TZID=Europe/Berlin:20240319T220000
DTSTAMP:20260425T173536
CREATED:20231220T101147Z
LAST-MODIFIED:20231220T101149Z
UID:10241-1710874800-1710885600@bb-vaihingen.de
SUMMARY:Ideen und was euch und uns umtreibt
DESCRIPTION:Wir besprechen mit euch Ideen für Aktionen\, Veranstaltungen\, usw. und was euch und uns bewegt. Ihr seid herzlich eingeladen uns zu besuchen\, mitzumachen oder uns einfach kennen zu lernen.
URL:https://bb-vaihingen.de/event/ideen-und-was-euch-und-uns-umtreibt-15/
LOCATION:Gasthaus »Zum Engel«\, Stuttgarter Straße 2\, Vaihingen an der Enz\, 71665\, Deutschland
CATEGORIES:Plenum
END:VEVENT
END:VCALENDAR