BEGIN:VCALENDAR
VERSION:2.0
PRODID:-//Bürger bewegen Vaihingen an der Enz - ECPv6.15.20//NONSGML v1.0//EN
CALSCALE:GREGORIAN
METHOD:PUBLISH
X-WR-CALNAME:Bürger bewegen Vaihingen an der Enz
X-ORIGINAL-URL:https://bb-vaihingen.de
X-WR-CALDESC:Veranstaltungen für Bürger bewegen Vaihingen an der Enz
REFRESH-INTERVAL;VALUE=DURATION:PT1H
X-Robots-Tag:noindex
X-PUBLISHED-TTL:PT1H
BEGIN:VTIMEZONE
TZID:Europe/Berlin
BEGIN:DAYLIGHT
TZOFFSETFROM:+0100
TZOFFSETTO:+0200
TZNAME:CEST
DTSTART:20230326T010000
END:DAYLIGHT
BEGIN:STANDARD
TZOFFSETFROM:+0200
TZOFFSETTO:+0100
TZNAME:CET
DTSTART:20231029T010000
END:STANDARD
BEGIN:DAYLIGHT
TZOFFSETFROM:+0100
TZOFFSETTO:+0200
TZNAME:CEST
DTSTART:20240331T010000
END:DAYLIGHT
BEGIN:STANDARD
TZOFFSETFROM:+0200
TZOFFSETTO:+0100
TZNAME:CET
DTSTART:20241027T010000
END:STANDARD
BEGIN:DAYLIGHT
TZOFFSETFROM:+0100
TZOFFSETTO:+0200
TZNAME:CEST
DTSTART:20250330T010000
END:DAYLIGHT
BEGIN:STANDARD
TZOFFSETFROM:+0200
TZOFFSETTO:+0100
TZNAME:CET
DTSTART:20251026T010000
END:STANDARD
END:VTIMEZONE
BEGIN:VEVENT
DTSTART;TZID=Europe/Berlin:20240403T190000
DTEND;TZID=Europe/Berlin:20240403T210000
DTSTAMP:20260425T160842
CREATED:20231122T135907Z
LAST-MODIFIED:20231122T135908Z
UID:10190-1712170800-1712178000@bb-vaihingen.de
SUMMARY:BbV-Plenum “Besprechung der neuen Sitzungsunterlagen”
DESCRIPTION:Wir besprechen die Unterlagen der  aktuellen Sitzungsrunde. Alle Interessierte sind herzlich willkommen.
URL:https://bb-vaihingen.de/event/bbv-plenum-besprechung-der-neuen-sitzungsunterlagen-3/
LOCATION:Gasthaus »Zum Engel«\, Stuttgarter Straße 2\, Vaihingen an der Enz\, 71665\, Deutschland
CATEGORIES:Plenum,Unterlagen
ATTACH;FMTTYPE=image/jpeg:https://bb-vaihingen.de/wp-content/uploads/2020/05/Online-Sitzungen-BbV-scaled.jpg
END:VEVENT
BEGIN:VEVENT
DTSTART;TZID=Europe/Berlin:20240408T180000
DTEND;TZID=Europe/Berlin:20240408T210000
DTSTAMP:20260425T160842
CREATED:20231122T080956Z
LAST-MODIFIED:20231122T082221Z
UID:9872-1712599200-1712610000@bb-vaihingen.de
SUMMARY:Stadtteilausschuss
DESCRIPTION:3. Sitzung des Stadtteilausschusses
URL:https://bb-vaihingen.de/event/stadtteilausschuss-17/
CATEGORIES:Sitzung
END:VEVENT
BEGIN:VEVENT
DTSTART;TZID=Europe/Berlin:20240409T180000
DTEND;TZID=Europe/Berlin:20240409T210000
DTSTAMP:20260425T160842
CREATED:20231122T100722Z
LAST-MODIFIED:20231122T144315Z
UID:9956-1712685600-1712696400@bb-vaihingen.de
SUMMARY:Jugendgemeinderat
DESCRIPTION:3. Sitzung des Jugendgemeinderates
URL:https://bb-vaihingen.de/event/jugendgemeinderat-29/
LOCATION:Rathaus Vaihingen\,  Sitzungssaal\, Marktplatz 1\, Vaihingen an der Enz\, 71665
CATEGORIES:Sitzung
END:VEVENT
BEGIN:VEVENT
DTSTART;TZID=Europe/Berlin:20240409T190000
DTEND;TZID=Europe/Berlin:20240409T210000
DTSTAMP:20260425T160842
CREATED:20231122T132804Z
LAST-MODIFIED:20231122T132807Z
UID:10169-1712689200-1712696400@bb-vaihingen.de
SUMMARY:Ortschaftsrat Roßwag
DESCRIPTION:3. Sitzung des Ortschaftsrates Roßwag
URL:https://bb-vaihingen.de/event/ortschaftsrat-rosswag-3/
LOCATION:Rathaus Roßwag\, St.-Martin-Straße 2\, Vaihingen an der Enz\, 71665\, Deutschland
CATEGORIES:Sitzung
END:VEVENT
BEGIN:VEVENT
DTSTART;TZID=Europe/Berlin:20240409T193000
DTEND;TZID=Europe/Berlin:20240409T210000
DTSTAMP:20260425T160842
CREATED:20231122T101836Z
LAST-MODIFIED:20231122T101837Z
UID:9975-1712691000-1712696400@bb-vaihingen.de
SUMMARY:Ortschaftsrat Aurich
DESCRIPTION:3. Sitzung des Ortschaftsrates Aurich
URL:https://bb-vaihingen.de/event/ortschaftsrat-aurich-20/
LOCATION:Rathaus Aurich\, Nussdorfer Straße 2\, Vaihingen an der Enz\, 71665\, Deutschland
CATEGORIES:Sitzung
END:VEVENT
BEGIN:VEVENT
DTSTART;TZID=Europe/Berlin:20240409T193000
DTEND;TZID=Europe/Berlin:20240409T210000
DTSTAMP:20260425T160842
CREATED:20231122T110914Z
LAST-MODIFIED:20231122T110916Z
UID:10019-1712691000-1712696400@bb-vaihingen.de
SUMMARY:Ortschaftsrat Ensingen
DESCRIPTION:3. Sitzung des Ortschaftsrates Ensingen
URL:https://bb-vaihingen.de/event/ortschaftsrat-ensingen-21/
LOCATION:Rathaus Ensingen\, Hauptstr. 14\, Vaihingen an der Enz\, 71665\, Deutschland
CATEGORIES:Sitzung
END:VEVENT
BEGIN:VEVENT
DTSTART;TZID=Europe/Berlin:20240409T193000
DTEND;TZID=Europe/Berlin:20240409T210000
DTSTAMP:20260425T160842
CREATED:20231122T111935Z
LAST-MODIFIED:20231122T111937Z
UID:10039-1712691000-1712696400@bb-vaihingen.de
SUMMARY:Ortschaftsrat Enzweihingen
DESCRIPTION:3. Sitzung des Ortschaftsrates Enzweihingen
URL:https://bb-vaihingen.de/event/ortschaftsrat-enzweihingen-21/
LOCATION:Rathaus Enzweihingen\, Vaihinger Str. 2\, Vaihingen an der Enz\, 71665\, Deutschland
CATEGORIES:Sitzung
END:VEVENT
BEGIN:VEVENT
DTSTART;TZID=Europe/Berlin:20240409T193000
DTEND;TZID=Europe/Berlin:20240409T210000
DTSTAMP:20260425T160842
CREATED:20231122T112950Z
LAST-MODIFIED:20231122T112952Z
UID:10058-1712691000-1712696400@bb-vaihingen.de
SUMMARY:Ortschaftsrat Gündelbach
DESCRIPTION:3. Sitzung des Ortschaftsrates Gündelbach
URL:https://bb-vaihingen.de/event/ortschaftsrat-guendelbach-20/
LOCATION:Alte Schule Gündelbach\, Katharinenstr. 22\, Vaihingen an der Enz\, 71665
CATEGORIES:Sitzung
END:VEVENT
BEGIN:VEVENT
DTSTART;TZID=Europe/Berlin:20240409T193000
DTEND;TZID=Europe/Berlin:20240409T210000
DTSTAMP:20260425T160842
CREATED:20231122T115751Z
LAST-MODIFIED:20231122T115753Z
UID:10084-1712691000-1712696400@bb-vaihingen.de
SUMMARY:Ortschaftsrat Horrheim
DESCRIPTION:3. Sitzung des Ortschaftsrates Horrheim
URL:https://bb-vaihingen.de/event/ortschaftsrat-horrheim-3/
LOCATION:Rathaus Horrheim\, Alte Marktstraße 3\, Vaihingen an der Enz\, 71665\, Deutschland
CATEGORIES:Sitzung
END:VEVENT
BEGIN:VEVENT
DTSTART;TZID=Europe/Berlin:20240410T180000
DTEND;TZID=Europe/Berlin:20240410T210000
DTSTAMP:20260425T160842
CREATED:20231122T082635Z
LAST-MODIFIED:20231122T083807Z
UID:9890-1712772000-1712782800@bb-vaihingen.de
SUMMARY:Sozial- und Kulturausschuss
DESCRIPTION:3. Sitzung des Sozial- und Kulturausschusses
URL:https://bb-vaihingen.de/event/sozial-und-kulturausschuss-17/
CATEGORIES:Sitzung
END:VEVENT
BEGIN:VEVENT
DTSTART;TZID=Europe/Berlin:20240410T193000
DTEND;TZID=Europe/Berlin:20240410T210000
DTSTAMP:20260425T160842
CREATED:20231122T131507Z
LAST-MODIFIED:20231122T131510Z
UID:10149-1712777400-1712782800@bb-vaihingen.de
SUMMARY:Ortschaftsrat Riet
DESCRIPTION:3. Sitzung des Ortschaftsrates Riet
URL:https://bb-vaihingen.de/event/ortschaftsrat-riet-3/
LOCATION:Rathaus Riet\, Ludwigsburger Str. 14\, Vaihingen an der Enz\, 71665\, Deutschland
CATEGORIES:Sitzung
END:VEVENT
BEGIN:VEVENT
DTSTART;TZID=Europe/Berlin:20240411T193000
DTEND;TZID=Europe/Berlin:20240411T210000
DTSTAMP:20260425T160842
CREATED:20231122T125832Z
LAST-MODIFIED:20231122T125834Z
UID:10129-1712863800-1712869200@bb-vaihingen.de
SUMMARY:Ortschaftsrat Kleinglattbach
DESCRIPTION:3. Sitzung des Ortschaftsrates Kleinglattbach
URL:https://bb-vaihingen.de/event/ortschaftsrat-kleinglattbach-3/
LOCATION:Rathaus Kleinglattbach\, Bahnhofstraße 9\, Vaihingen an der Enz\, 71665\, Deutschland
CATEGORIES:Sitzung
END:VEVENT
BEGIN:VEVENT
DTSTART;TZID=Europe/Berlin:20240415T180000
DTEND;TZID=Europe/Berlin:20240415T210000
DTSTAMP:20260425T160842
CREATED:20231122T084331Z
LAST-MODIFIED:20231122T084333Z
UID:9909-1713204000-1713214800@bb-vaihingen.de
SUMMARY:Finanz- und Verwaltungsausschuss
DESCRIPTION:3. Sitzung des Finanz- und Verwaltungsausschusses
URL:https://bb-vaihingen.de/event/finanz-und-verwaltungsausschuss-16/
CATEGORIES:Sitzung
END:VEVENT
BEGIN:VEVENT
DTSTART;TZID=Europe/Berlin:20240417T180000
DTEND;TZID=Europe/Berlin:20240417T210000
DTSTAMP:20260425T160842
CREATED:20231122T090237Z
LAST-MODIFIED:20231122T090239Z
UID:9930-1713376800-1713387600@bb-vaihingen.de
SUMMARY:Technischer Ausschuss
DESCRIPTION:3. Sitzung des Technischen Ausschusses
URL:https://bb-vaihingen.de/event/technischer-ausschuss-16/
CATEGORIES:Sitzung
END:VEVENT
BEGIN:VEVENT
DTSTART;TZID=Europe/Berlin:20240422T190000
DTEND;TZID=Europe/Berlin:20240422T210000
DTSTAMP:20260425T160842
CREATED:20231122T103556Z
LAST-MODIFIED:20231122T103557Z
UID:9996-1713812400-1713819600@bb-vaihingen.de
SUMMARY:Öffentliche Fraktionssitzung
DESCRIPTION:Fraktionssitzung zur 3. Sitzung des Gemeinderates\n\n\n\ndie Tagesordnung richtet sich nach der Tagesordnung des Gemeinderates
URL:https://bb-vaihingen.de/event/oeffentliche-fraktionssitzung-13/
LOCATION:Gasthaus »Zum Engel«\, Stuttgarter Straße 2\, Vaihingen an der Enz\, 71665\, Deutschland
CATEGORIES:Fraktionssitzung,Sitzung
END:VEVENT
BEGIN:VEVENT
DTSTART;TZID=Europe/Berlin:20240424T180000
DTEND;TZID=Europe/Berlin:20240424T210000
DTSTAMP:20260425T160842
CREATED:20231122T074232Z
LAST-MODIFIED:20231122T075817Z
UID:9842-1713981600-1713992400@bb-vaihingen.de
SUMMARY:Gemeinderat
DESCRIPTION:3. Sitzung des Gemeinderates
URL:https://bb-vaihingen.de/event/gemeinderat-15/
CATEGORIES:Sitzung
END:VEVENT
BEGIN:VEVENT
DTSTART;TZID=Europe/Berlin:20240425T190000
DTEND;TZID=Europe/Berlin:20240425T210000
DTSTAMP:20260425T160842
CREATED:20231122T141315Z
LAST-MODIFIED:20231122T141317Z
UID:10203-1714071600-1714078800@bb-vaihingen.de
SUMMARY:BbV-Plenum “Besprechung der neuen Sitzungsunterlagen”
DESCRIPTION:Wir besprechen die Unterlagen der  aktuellen Sitzungsrunde. Alle Interessierte sind herzlich willkommen.
URL:https://bb-vaihingen.de/event/bbv-plenum-besprechung-der-neuen-sitzungsunterlagen-10/
LOCATION:Gasthaus »Zum Engel«\, Stuttgarter Straße 2\, Vaihingen an der Enz\, 71665\, Deutschland
CATEGORIES:Plenum,Unterlagen
ATTACH;FMTTYPE=image/jpeg:https://bb-vaihingen.de/wp-content/uploads/2020/05/Online-Sitzungen-BbV-scaled.jpg
END:VEVENT
BEGIN:VEVENT
DTSTART;TZID=Europe/Berlin:20240429T180000
DTEND;TZID=Europe/Berlin:20240429T210000
DTSTAMP:20260425T160842
CREATED:20231122T081101Z
LAST-MODIFIED:20231122T082211Z
UID:9874-1714413600-1714424400@bb-vaihingen.de
SUMMARY:Stadtteilausschuss
DESCRIPTION:4. Sitzung des Stadtteilausschusses
URL:https://bb-vaihingen.de/event/stadtteilausschuss-18/
CATEGORIES:Sitzung
END:VEVENT
BEGIN:VEVENT
DTSTART;TZID=Europe/Berlin:20240430T180000
DTEND;TZID=Europe/Berlin:20240430T210000
DTSTAMP:20260425T160842
CREATED:20231122T100800Z
LAST-MODIFIED:20231122T144243Z
UID:9958-1714500000-1714510800@bb-vaihingen.de
SUMMARY:Jugendgemeinderat
DESCRIPTION:4. Sitzung des Jugendgemeinderates
URL:https://bb-vaihingen.de/event/jugendgemeinderat-32/
LOCATION:Rathaus Vaihingen\,  Sitzungssaal\, Marktplatz 1\, Vaihingen an der Enz\, 71665
CATEGORIES:Sitzung
END:VEVENT
BEGIN:VEVENT
DTSTART;TZID=Europe/Berlin:20240430T190000
DTEND;TZID=Europe/Berlin:20240430T210000
DTSTAMP:20260425T160842
CREATED:20231122T132834Z
LAST-MODIFIED:20231122T132836Z
UID:10171-1714503600-1714510800@bb-vaihingen.de
SUMMARY:Ortschaftsrat Roßwag
DESCRIPTION:4. Sitzung des Ortschaftsrates Roßwag
URL:https://bb-vaihingen.de/event/ortschaftsrat-rosswag-4/
LOCATION:Rathaus Roßwag\, St.-Martin-Straße 2\, Vaihingen an der Enz\, 71665\, Deutschland
CATEGORIES:Sitzung
END:VEVENT
BEGIN:VEVENT
DTSTART;TZID=Europe/Berlin:20240430T193000
DTEND;TZID=Europe/Berlin:20240430T210000
DTSTAMP:20260425T160842
CREATED:20231122T101907Z
LAST-MODIFIED:20231122T101909Z
UID:9977-1714505400-1714510800@bb-vaihingen.de
SUMMARY:Ortschaftsrat Aurich
DESCRIPTION:4. Sitzung des Ortschaftsrates Aurich
URL:https://bb-vaihingen.de/event/ortschaftsrat-aurich-21/
LOCATION:Rathaus Aurich\, Nussdorfer Straße 2\, Vaihingen an der Enz\, 71665\, Deutschland
CATEGORIES:Sitzung
END:VEVENT
BEGIN:VEVENT
DTSTART;TZID=Europe/Berlin:20240430T193000
DTEND;TZID=Europe/Berlin:20240430T210000
DTSTAMP:20260425T160842
CREATED:20231122T110957Z
LAST-MODIFIED:20231122T110959Z
UID:10021-1714505400-1714510800@bb-vaihingen.de
SUMMARY:Ortschaftsrat Ensingen
DESCRIPTION:4. Sitzung des Ortschaftsrates Ensingen
URL:https://bb-vaihingen.de/event/ortschaftsrat-ensingen-22/
LOCATION:Rathaus Ensingen\, Hauptstr. 14\, Vaihingen an der Enz\, 71665\, Deutschland
CATEGORIES:Sitzung
END:VEVENT
BEGIN:VEVENT
DTSTART;TZID=Europe/Berlin:20240430T193000
DTEND;TZID=Europe/Berlin:20240430T210000
DTSTAMP:20260425T160842
CREATED:20231122T112011Z
LAST-MODIFIED:20231122T112013Z
UID:10041-1714505400-1714510800@bb-vaihingen.de
SUMMARY:Ortschaftsrat Enzweihingen
DESCRIPTION:4. Sitzung des Ortschaftsrates Enzweihingen
URL:https://bb-vaihingen.de/event/ortschaftsrat-enzweihingen-22/
LOCATION:Rathaus Enzweihingen\, Vaihinger Str. 2\, Vaihingen an der Enz\, 71665\, Deutschland
CATEGORIES:Sitzung
END:VEVENT
BEGIN:VEVENT
DTSTART;TZID=Europe/Berlin:20240430T193000
DTEND;TZID=Europe/Berlin:20240430T210000
DTSTAMP:20260425T160842
CREATED:20231122T113024Z
LAST-MODIFIED:20231122T113026Z
UID:10060-1714505400-1714510800@bb-vaihingen.de
SUMMARY:Ortschaftsrat Gündelbach
DESCRIPTION:4. Sitzung des Ortschaftsrates Gündelbach
URL:https://bb-vaihingen.de/event/ortschaftsrat-guendelbach-21/
LOCATION:Alte Schule Gündelbach\, Katharinenstr. 22\, Vaihingen an der Enz\, 71665
CATEGORIES:Sitzung
END:VEVENT
BEGIN:VEVENT
DTSTART;TZID=Europe/Berlin:20240430T193000
DTEND;TZID=Europe/Berlin:20240430T210000
DTSTAMP:20260425T160842
CREATED:20231122T115829Z
LAST-MODIFIED:20231122T115831Z
UID:10086-1714505400-1714510800@bb-vaihingen.de
SUMMARY:Ortschaftsrat Horrheim
DESCRIPTION:4. Sitzung des Ortschaftsrates Horrheim
URL:https://bb-vaihingen.de/event/ortschaftsrat-horrheim-4/
LOCATION:Rathaus Horrheim\, Alte Marktstraße 3\, Vaihingen an der Enz\, 71665\, Deutschland
CATEGORIES:Sitzung
END:VEVENT
END:VCALENDAR