BEGIN:VCALENDAR
VERSION:2.0
PRODID:-//Bürger bewegen Vaihingen an der Enz - ECPv6.15.20//NONSGML v1.0//EN
CALSCALE:GREGORIAN
METHOD:PUBLISH
X-ORIGINAL-URL:https://bb-vaihingen.de
X-WR-CALDESC:Veranstaltungen für Bürger bewegen Vaihingen an der Enz
REFRESH-INTERVAL;VALUE=DURATION:PT1H
X-Robots-Tag:noindex
X-PUBLISHED-TTL:PT1H
BEGIN:VTIMEZONE
TZID:Europe/Berlin
BEGIN:DAYLIGHT
TZOFFSETFROM:+0100
TZOFFSETTO:+0200
TZNAME:CEST
DTSTART:20230326T010000
END:DAYLIGHT
BEGIN:STANDARD
TZOFFSETFROM:+0200
TZOFFSETTO:+0100
TZNAME:CET
DTSTART:20231029T010000
END:STANDARD
BEGIN:DAYLIGHT
TZOFFSETFROM:+0100
TZOFFSETTO:+0200
TZNAME:CEST
DTSTART:20240331T010000
END:DAYLIGHT
BEGIN:STANDARD
TZOFFSETFROM:+0200
TZOFFSETTO:+0100
TZNAME:CET
DTSTART:20241027T010000
END:STANDARD
BEGIN:DAYLIGHT
TZOFFSETFROM:+0100
TZOFFSETTO:+0200
TZNAME:CEST
DTSTART:20250330T010000
END:DAYLIGHT
BEGIN:STANDARD
TZOFFSETFROM:+0200
TZOFFSETTO:+0100
TZNAME:CET
DTSTART:20251026T010000
END:STANDARD
END:VTIMEZONE
BEGIN:VEVENT
DTSTART;TZID=Europe/Berlin:20240502T180000
DTEND;TZID=Europe/Berlin:20240502T210000
DTSTAMP:20260425T145349
CREATED:20231122T082721Z
LAST-MODIFIED:20231122T083739Z
UID:9892-1714672800-1714683600@bb-vaihingen.de
SUMMARY:Sozial- und Kulturausschuss
DESCRIPTION:4. Sitzung des Sozial- und Kulturausschusses
URL:https://bb-vaihingen.de/event/sozial-und-kulturausschuss-18/
CATEGORIES:Sitzung
END:VEVENT
BEGIN:VEVENT
DTSTART;TZID=Europe/Berlin:20240502T193000
DTEND;TZID=Europe/Berlin:20240502T210000
DTSTAMP:20260425T145349
CREATED:20231122T125910Z
LAST-MODIFIED:20231122T125912Z
UID:10131-1714678200-1714683600@bb-vaihingen.de
SUMMARY:Ortschaftsrat Kleinglattbach
DESCRIPTION:4. Sitzung des Ortschaftsrates Kleinglattbach
URL:https://bb-vaihingen.de/event/ortschaftsrat-kleinglattbach-4/
LOCATION:Rathaus Kleinglattbach\, Bahnhofstraße 9\, Vaihingen an der Enz\, 71665\, Deutschland
CATEGORIES:Sitzung
END:VEVENT
BEGIN:VEVENT
DTSTART;TZID=Europe/Berlin:20240502T193000
DTEND;TZID=Europe/Berlin:20240502T210000
DTSTAMP:20260425T145349
CREATED:20231122T131548Z
LAST-MODIFIED:20231122T131551Z
UID:10151-1714678200-1714683600@bb-vaihingen.de
SUMMARY:Ortschaftsrat Riet
DESCRIPTION:4. Sitzung des Ortschaftsrates Riet
URL:https://bb-vaihingen.de/event/ortschaftsrat-riet-4/
LOCATION:Rathaus Riet\, Ludwigsburger Str. 14\, Vaihingen an der Enz\, 71665\, Deutschland
CATEGORIES:Sitzung
END:VEVENT
BEGIN:VEVENT
DTSTART;TZID=Europe/Berlin:20240506T180000
DTEND;TZID=Europe/Berlin:20240506T210000
DTSTAMP:20260425T145349
CREATED:20231122T084510Z
LAST-MODIFIED:20231122T084512Z
UID:9911-1715018400-1715029200@bb-vaihingen.de
SUMMARY:Finanz- und Verwaltungsausschuss
DESCRIPTION:4. Sitzung des Finanz- und Verwaltungsausschusses
URL:https://bb-vaihingen.de/event/finanz-und-verwaltungsausschuss-17/
CATEGORIES:Sitzung
END:VEVENT
BEGIN:VEVENT
DTSTART;TZID=Europe/Berlin:20240508T180000
DTEND;TZID=Europe/Berlin:20240508T210000
DTSTAMP:20260425T145349
CREATED:20231122T094237Z
LAST-MODIFIED:20231122T094239Z
UID:9933-1715191200-1715202000@bb-vaihingen.de
SUMMARY:Technischer Ausschuss
DESCRIPTION:4. Sitzung des Technischen Ausschusses
URL:https://bb-vaihingen.de/event/technischer-ausschuss-17/
CATEGORIES:Sitzung
END:VEVENT
BEGIN:VEVENT
DTSTART;TZID=Europe/Berlin:20240513T190000
DTEND;TZID=Europe/Berlin:20240513T210000
DTSTAMP:20260425T145349
CREATED:20231122T103651Z
LAST-MODIFIED:20231122T103653Z
UID:9998-1715626800-1715634000@bb-vaihingen.de
SUMMARY:Öffentliche Fraktionssitzung
DESCRIPTION:Fraktionssitzung zur 4. Sitzung des Gemeinderates\n\n\n\ndie Tagesordnung richtet sich nach der Tagesordnung des Gemeinderates
URL:https://bb-vaihingen.de/event/oeffentliche-fraktionssitzung-14/
LOCATION:Gasthaus »Zum Engel«\, Stuttgarter Straße 2\, Vaihingen an der Enz\, 71665\, Deutschland
CATEGORIES:Fraktionssitzung,Sitzung
END:VEVENT
BEGIN:VEVENT
DTSTART;TZID=Europe/Berlin:20240515T180000
DTEND;TZID=Europe/Berlin:20240515T210000
DTSTAMP:20260425T145349
CREATED:20231122T074548Z
LAST-MODIFIED:20231122T080010Z
UID:9844-1715796000-1715806800@bb-vaihingen.de
SUMMARY:Gemeinderat
DESCRIPTION:4. Sitzung des Gemeinderates
URL:https://bb-vaihingen.de/event/gemeinderat-16/
CATEGORIES:Sitzung
END:VEVENT
BEGIN:VEVENT
DTSTART;TZID=Europe/Berlin:20240521T190000
DTEND;TZID=Europe/Berlin:20240521T220000
DTSTAMP:20260425T145349
CREATED:20231220T101254Z
LAST-MODIFIED:20231220T101256Z
UID:10243-1716318000-1716328800@bb-vaihingen.de
SUMMARY:Ideen und was euch und uns umtreibt
DESCRIPTION:Wir besprechen mit euch Ideen für Aktionen\, Veranstaltungen\, usw. und was euch und uns bewegt. Ihr seid herzlich eingeladen uns zu besuchen\, mitzumachen oder uns einfach kennen zu lernen.
URL:https://bb-vaihingen.de/event/ideen-und-was-euch-und-uns-umtreibt-16/
LOCATION:Gasthaus »Zum Engel«\, Stuttgarter Straße 2\, Vaihingen an der Enz\, 71665\, Deutschland
CATEGORIES:Plenum
END:VEVENT
BEGIN:VEVENT
DTSTART;TZID=Europe/Berlin:20240529T190000
DTEND;TZID=Europe/Berlin:20240529T210000
DTSTAMP:20260425T145349
CREATED:20231122T140000Z
LAST-MODIFIED:20231122T140002Z
UID:10192-1717009200-1717016400@bb-vaihingen.de
SUMMARY:BbV-Plenum “Besprechung der neuen Sitzungsunterlagen”
DESCRIPTION:Wir besprechen die Unterlagen der  aktuellen Sitzungsrunde. Alle Interessierte sind herzlich willkommen.
URL:https://bb-vaihingen.de/event/bbv-plenum-besprechung-der-neuen-sitzungsunterlagen-4/
LOCATION:Gasthaus »Zum Engel«\, Stuttgarter Straße 2\, Vaihingen an der Enz\, 71665\, Deutschland
CATEGORIES:Plenum,Unterlagen
ATTACH;FMTTYPE=image/jpeg:https://bb-vaihingen.de/wp-content/uploads/2020/05/Online-Sitzungen-BbV-scaled.jpg
END:VEVENT
END:VCALENDAR