BEGIN:VCALENDAR
VERSION:2.0
PRODID:-//Bürger bewegen Vaihingen an der Enz - ECPv6.15.20//NONSGML v1.0//EN
CALSCALE:GREGORIAN
METHOD:PUBLISH
X-WR-CALNAME:Bürger bewegen Vaihingen an der Enz
X-ORIGINAL-URL:https://bb-vaihingen.de
X-WR-CALDESC:Veranstaltungen für Bürger bewegen Vaihingen an der Enz
REFRESH-INTERVAL;VALUE=DURATION:PT1H
X-Robots-Tag:noindex
X-PUBLISHED-TTL:PT1H
BEGIN:VTIMEZONE
TZID:Europe/Berlin
BEGIN:DAYLIGHT
TZOFFSETFROM:+0100
TZOFFSETTO:+0200
TZNAME:CEST
DTSTART:20240331T010000
END:DAYLIGHT
BEGIN:STANDARD
TZOFFSETFROM:+0200
TZOFFSETTO:+0100
TZNAME:CET
DTSTART:20241027T010000
END:STANDARD
BEGIN:DAYLIGHT
TZOFFSETFROM:+0100
TZOFFSETTO:+0200
TZNAME:CEST
DTSTART:20250330T010000
END:DAYLIGHT
BEGIN:STANDARD
TZOFFSETFROM:+0200
TZOFFSETTO:+0100
TZNAME:CET
DTSTART:20251026T010000
END:STANDARD
BEGIN:DAYLIGHT
TZOFFSETFROM:+0100
TZOFFSETTO:+0200
TZNAME:CEST
DTSTART:20260329T010000
END:DAYLIGHT
BEGIN:STANDARD
TZOFFSETFROM:+0200
TZOFFSETTO:+0100
TZNAME:CET
DTSTART:20261025T010000
END:STANDARD
END:VTIMEZONE
BEGIN:VEVENT
DTSTART;TZID=Europe/Berlin:20250205T190000
DTEND;TZID=Europe/Berlin:20250205T210000
DTSTAMP:20260425T021127
CREATED:20250104T122341Z
LAST-MODIFIED:20250104T190507Z
UID:12259-1738782000-1738789200@bb-vaihingen.de
SUMMARY:BbV-Plenum | »Besprechung der neuen Sitzungsunterlagen im Februar«
DESCRIPTION:Wir besprechen die Unterlagen der aktuellen Sitzungsrunde. Alle Interessierten sind herzlich willkommen.
URL:https://bb-vaihingen.de/event/bbv-plenum-besprechung-der-neuen-sitzungsunterlagen-im-februar/
LOCATION:Gasthaus »Zum Engel«\, Stuttgarter Straße 2\, Vaihingen an der Enz\, 71665\, Deutschland
CATEGORIES:Plenum
END:VEVENT
BEGIN:VEVENT
DTSTART;TZID=Europe/Berlin:20250207T180000
DTEND;TZID=Europe/Berlin:20250207T180000
DTSTAMP:20260425T021127
CREATED:20250206T110000Z
LAST-MODIFIED:20250206T115300Z
UID:12319-1738951200-1738951200@bb-vaihingen.de
SUMMARY:Vaihingen leuchtet auf!
DESCRIPTION:Die BbV ist dabei: Lichtermeer des Bündnis Vaihingen für Vielfalt\, Demokratie und Menschenrechte \n\n\n\nAus dem offiziellen Flyer\n\n\n\nAm Freitag\, den 7. Februar versammeln wir uns um 18 Uhr auf dem Marktplatz in Vaihingen-Enz\, um ein starkes Zeichen für Vielfalt\, Demokratie und Menschenrechte zu setzen. Wir positionieren uns gegen rechte Hetze und für eine gerechte Gesellschaft.  \n\n\n\nDie Schirmherrschaft trägt Oberbürgermeister Uwe Skrzypek. Sprechen wird unter anderem die NS Zeitzeugin Wendelgard von Staden. Das Lichtermeer wird musikalisch begleitet von der Band The Fairy Meadows.  \n\n\n\nEine wehrhafte Demokratie braucht gute Lebensbedingungen für alle Menschen! Schutz von Geflüchteten\, gute Bildung\, ein funktionierendes Sozial-und Gesundheitswesen\, freie Kultur\, demokratische Institutionen\, ein gesundes Klima\, eine intakte Infrastruktur und eine offene Gesellschaft. Dies sind Grundpfeiler unserer Demokratie\, die nachhaltig gestärkt werden müssen.  \n\n\n\nKommt zum Lichtermeer am Freitag\, den 7. Februar\, um 18 Uhr auf dem Marktplatz Vaihingen-Enz! \n\n\n\nBringt Lichter mit und leitet diesen Aufruf an all eure Bekannten weiter!Zeigen wir gemeinsam: Vaihingen-Enz hält zusammen. Für ein Miteinander\, das Mut macht – gegen jede Form von Ausgrenzung\, Unterdrückung\, Populismus und Hass.  \n\n\n\nBündnis Vaihingen für Vielfalt\, Demokratie und Menschenrechte: \n\n\n\n\nACK- Arbeitsgemeinschaft christlicher Kirchen in Vaihingen an der Enz\n\n\n\nKZ-Gedenkstätte Vaihingen/Enz e. V.\n\n\n\nOmas for Future Ludwigsburg\n\n\n\nWeltladen Vaihingen-Enz\n\n\n\nAK Asyl Vaihingen-Enz\n\n\n\nBÜNDNIS 90/Die GRÜNEN Vaihingen und Umgebung\n\n\n\nSPD Raum Vaihingen/Enz\n\n\n\nBürger bewegen Vaihingen\n\n\n\nDie LINKE Vaihingen-Enz\n\n\n\nFreie Wähler Vaihingen/Enz\n\n\n\nCDU Vaihingen-Enz\n\n\n\nFDP OV Vaihingen-Sachsenheim\n\n\n\nStadt Vaihingen-Enz
URL:https://bb-vaihingen.de/event/vaihingen-leuchtet-auf/
LOCATION:Marktplatz\, Marktplatz\, Vaihingen\, 71665\, Germany
CATEGORIES:Externe Veranstaltung
END:VEVENT
BEGIN:VEVENT
DTSTART;TZID=Europe/Berlin:20250214T190000
DTEND;TZID=Europe/Berlin:20250214T220000
DTSTAMP:20260425T021127
CREATED:20250210T112909Z
LAST-MODIFIED:20250828T135614Z
UID:12326-1739559600-1739570400@bb-vaihingen.de
SUMMARY:Wie kommt die S-Bahn nach Vaihingen?
DESCRIPTION:Die Wählergemeinschaft BbV lädt alle interessierten Bürgerinnen und Bürger zu einer informativen Veranstaltung am Freitag\, den 14. Februar in die Gaststätte „Engel“ (Stuttgarter Straße 2) ein.  \n\n\n\nIm Mittelpunkt des Abends wird die geplante Verlängerung der S-Bahn stehen\, ein Thema\, das derzeit in der Stadt für viel Gesprächsstoff sorgt. \n\n\n\nDie Bürgerinitiative „Zugkunft bewegt“ wird zu Gast sein und über die aktuellen Planungen der S-Bahn Verlängerung und insbesondere über die Herausforderungen für Kleinglattbach informieren.  \n\n\n\nIm Anschluss ist Raum für Diskussionen und Anregungen und auch die Chancen eines S-Bahn Anschlusses für Vaihingen sollen nicht zu kurz kommen.  \n\n\n\nBeginn der Veranstaltung ist um 19:00 Uhr. Alle Bürgerinnen und Bürger sind herzlich eingeladen\, sich zu informieren und ihre Meinungen einzubringen. Die Wählervereinigung BbV freut sich auf eine rege Teilnahme und einen offenen Dialog.  \n\n\n\nWir bitten Sie um eine Anmeldung per Mail an bbv_events@outlook.de
URL:https://bb-vaihingen.de/event/wie-kommt-die-s-bahn-nach-vaihingen/
LOCATION:Gasthaus »Zum Engel«\, Stuttgarter Straße 2\, Vaihingen an der Enz\, 71665\, Deutschland
END:VEVENT
BEGIN:VEVENT
DTSTART;TZID=Europe/Berlin:20250224T190000
DTEND;TZID=Europe/Berlin:20250224T210000
DTSTAMP:20260425T021127
CREATED:20250104T192450Z
LAST-MODIFIED:20250104T193524Z
UID:12285-1740423600-1740430800@bb-vaihingen.de
SUMMARY:Öffentliche Sitzung der BbV-Fraktion
DESCRIPTION:Vor der 2. Sitzung des Gemeinderates am 26. Februar \n\n\n\nDie Themen richten sich nach der Tagesordnung des Gemeinderates
URL:https://bb-vaihingen.de/event/oeffentliche-sitzung-der-bbv-fraktion-2/
LOCATION:Gasthaus »Zum Engel«\, Stuttgarter Straße 2\, Vaihingen an der Enz\, 71665\, Deutschland
CATEGORIES:Fraktionssitzung
END:VEVENT
END:VCALENDAR