BEGIN:VCALENDAR
VERSION:2.0
PRODID:-//Bürger bewegen Vaihingen an der Enz - ECPv6.15.20//NONSGML v1.0//EN
CALSCALE:GREGORIAN
METHOD:PUBLISH
X-ORIGINAL-URL:https://bb-vaihingen.de
X-WR-CALDESC:Veranstaltungen für Bürger bewegen Vaihingen an der Enz
REFRESH-INTERVAL;VALUE=DURATION:PT1H
X-Robots-Tag:noindex
X-PUBLISHED-TTL:PT1H
BEGIN:VTIMEZONE
TZID:Europe/Berlin
BEGIN:DAYLIGHT
TZOFFSETFROM:+0100
TZOFFSETTO:+0200
TZNAME:CEST
DTSTART:20240331T010000
END:DAYLIGHT
BEGIN:STANDARD
TZOFFSETFROM:+0200
TZOFFSETTO:+0100
TZNAME:CET
DTSTART:20241027T010000
END:STANDARD
BEGIN:DAYLIGHT
TZOFFSETFROM:+0100
TZOFFSETTO:+0200
TZNAME:CEST
DTSTART:20250330T010000
END:DAYLIGHT
BEGIN:STANDARD
TZOFFSETFROM:+0200
TZOFFSETTO:+0100
TZNAME:CET
DTSTART:20251026T010000
END:STANDARD
BEGIN:DAYLIGHT
TZOFFSETFROM:+0100
TZOFFSETTO:+0200
TZNAME:CEST
DTSTART:20260329T010000
END:DAYLIGHT
BEGIN:STANDARD
TZOFFSETFROM:+0200
TZOFFSETTO:+0100
TZNAME:CET
DTSTART:20261025T010000
END:STANDARD
END:VTIMEZONE
BEGIN:VEVENT
DTSTART;TZID=Europe/Berlin:20250312T190000
DTEND;TZID=Europe/Berlin:20250312T210000
DTSTAMP:20260425T005227
CREATED:20250104T182601Z
LAST-MODIFIED:20250104T182602Z
UID:12272-1741806000-1741813200@bb-vaihingen.de
SUMMARY:BbV-Plenum | »Besprechung der neuen Sitzungsunterlagen im März«
DESCRIPTION:Wir besprechen die Unterlagen der aktuellen Sitzungsrunde. Alle Interessierten sind herzlich willkommen.
URL:https://bb-vaihingen.de/event/bbv-plenum-besprechung-der-neuen-sitzungsunterlagen-im-maerz/
LOCATION:Gasthaus »Zum Engel«\, Stuttgarter Straße 2\, Vaihingen an der Enz\, 71665\, Deutschland
CATEGORIES:Plenum
END:VEVENT
BEGIN:VEVENT
DTSTART;TZID=Europe/Berlin:20250318T190000
DTEND;TZID=Europe/Berlin:20250318T220000
DTSTAMP:20260425T005227
CREATED:20250216T173201Z
LAST-MODIFIED:20250828T135614Z
UID:12330-1742324400-1742335200@bb-vaihingen.de
SUMMARY:Offenes BbV-Plenum im März
DESCRIPTION:Was uns in der Kommunalpolitik bewegt!\n\n\n\nAlle zwei Monate treffen wir uns im »Gasthaus Engel« zum offenen Plenum\, um frei von Sachzwängen über das zu sprechen\, was uns bewegt. Dabei diskutieren wir auch über neue Ideen\, geplante Aktionen und anstehende Veranstaltungen.  \n\n\n\nAlle\, die sich für die Kommunalpolitik in Vaihingen an der Enz interessieren\, sind herzlich willkommen – um mitzudiskutieren oder einfach nur zuzuhören. 
URL:https://bb-vaihingen.de/event/offenes-bbv-plenum/
LOCATION:Gasthaus »Zum Engel«\, Stuttgarter Straße 2\, Vaihingen an der Enz\, 71665\, Deutschland
END:VEVENT
BEGIN:VEVENT
DTSTART;TZID=Europe/Berlin:20250331T190000
DTEND;TZID=Europe/Berlin:20250331T210000
DTSTAMP:20260425T005227
CREATED:20250104T192655Z
LAST-MODIFIED:20250325T185528Z
UID:12287-1743447600-1743454800@bb-vaihingen.de
SUMMARY:Öffentliche Sitzung der BbV-Fraktion
DESCRIPTION:Vor der 3. Sitzung des Gemeinderates am 2. April \n\n\n\nDie Themen richten sich nach der Tagesordnung des Gemeinderates
URL:https://bb-vaihingen.de/event/oeffentliche-sitzung-der-bbv-fraktion-3/
LOCATION:Gasthaus »Zum Engel«\, Stuttgarter Straße 2\, Vaihingen an der Enz\, 71665\, Deutschland
CATEGORIES:Fraktionssitzung
END:VEVENT
END:VCALENDAR