BEGIN:VCALENDAR
VERSION:2.0
PRODID:-//Bürger bewegen Vaihingen an der Enz - ECPv6.15.20//NONSGML v1.0//EN
CALSCALE:GREGORIAN
METHOD:PUBLISH
X-WR-CALNAME:Bürger bewegen Vaihingen an der Enz
X-ORIGINAL-URL:https://bb-vaihingen.de
X-WR-CALDESC:Veranstaltungen für Bürger bewegen Vaihingen an der Enz
REFRESH-INTERVAL;VALUE=DURATION:PT1H
X-Robots-Tag:noindex
X-PUBLISHED-TTL:PT1H
BEGIN:VTIMEZONE
TZID:Europe/Berlin
BEGIN:DAYLIGHT
TZOFFSETFROM:+0100
TZOFFSETTO:+0200
TZNAME:CEST
DTSTART:20240331T010000
END:DAYLIGHT
BEGIN:STANDARD
TZOFFSETFROM:+0200
TZOFFSETTO:+0100
TZNAME:CET
DTSTART:20241027T010000
END:STANDARD
BEGIN:DAYLIGHT
TZOFFSETFROM:+0100
TZOFFSETTO:+0200
TZNAME:CEST
DTSTART:20250330T010000
END:DAYLIGHT
BEGIN:STANDARD
TZOFFSETFROM:+0200
TZOFFSETTO:+0100
TZNAME:CET
DTSTART:20251026T010000
END:STANDARD
BEGIN:DAYLIGHT
TZOFFSETFROM:+0100
TZOFFSETTO:+0200
TZNAME:CEST
DTSTART:20260329T010000
END:DAYLIGHT
BEGIN:STANDARD
TZOFFSETFROM:+0200
TZOFFSETTO:+0100
TZNAME:CET
DTSTART:20261025T010000
END:STANDARD
END:VTIMEZONE
BEGIN:VEVENT
DTSTART;TZID=Europe/Berlin:20250507T190000
DTEND;TZID=Europe/Berlin:20250507T210000
DTSTAMP:20260424T220939
CREATED:20250104T182437Z
LAST-MODIFIED:20250104T182750Z
UID:12274-1746644400-1746651600@bb-vaihingen.de
SUMMARY:BbV-Plenum | »Besprechung der neuen Sitzungsunterlagen im Mai«
DESCRIPTION:Wir besprechen die Unterlagen der aktuellen Sitzungsrunde. Alle Interessierten sind herzlich willkommen.
URL:https://bb-vaihingen.de/event/bbv-plenum-besprechung-der-neuen-sitzungsunterlagen-im-mai/
LOCATION:Gasthaus »Zum Engel«\, Stuttgarter Straße 2\, Vaihingen an der Enz\, 71665\, Deutschland
CATEGORIES:Plenum
END:VEVENT
BEGIN:VEVENT
DTSTART;TZID=Europe/Berlin:20250508T180000
DTEND;TZID=Europe/Berlin:20250508T200000
DTSTAMP:20260424T220939
CREATED:20250505T154956Z
LAST-MODIFIED:20250828T135614Z
UID:12350-1746727200-1746734400@bb-vaihingen.de
SUMMARY:Jährliche Mitgliederversammlung
DESCRIPTION:Bericht der Kassenprüfer\n\n\n\nBericht des Vorstandes\n\n\n\nWahlen\n\nVorstand\n\n\n\nVorstand\n\n\n\nKassierer\n\n\n\n\n\nVerschiedenes
URL:https://bb-vaihingen.de/event/jaehrliche-mitgliederversammlung/
LOCATION:Biohof Braun\, Hohbergstraße 14\, Vaihingen an der Enz\, Germany
END:VEVENT
BEGIN:VEVENT
DTSTART;TZID=Europe/Berlin:20250513T190000
DTEND;TZID=Europe/Berlin:20250513T220000
DTSTAMP:20260424T220939
CREATED:20250216T173824Z
LAST-MODIFIED:20250828T135614Z
UID:12333-1747162800-1747173600@bb-vaihingen.de
SUMMARY:Offenes BbV-Plenum im Mai
DESCRIPTION:Was uns in der Kommunalpolitik bewegt!\n\n\n\nAlle zwei Monate treffen wir uns im »Gasthaus Engel« zum offenen Plenum\, um frei von Sachzwängen über das zu sprechen\, was uns bewegt. Dabei diskutieren wir auch über neue Ideen\, geplante Aktionen und anstehende Veranstaltungen.  \n\n\n\nAlle\, die sich für die Kommunalpolitik in Vaihingen an der Enz interessieren\, sind herzlich willkommen – um mitzudiskutieren oder einfach nur zuzuhören. 
URL:https://bb-vaihingen.de/event/offenes-bbv-plenum-im-mai/
LOCATION:Gasthaus »Zum Engel«\, Stuttgarter Straße 2\, Vaihingen an der Enz\, 71665\, Deutschland
ATTACH;FMTTYPE=image/webp:https://bb-vaihingen.de/wp-content/uploads/2024/05/Engel-scaled.webp
END:VEVENT
BEGIN:VEVENT
DTSTART;TZID=Europe/Berlin:20250526T190000
DTEND;TZID=Europe/Berlin:20250526T210000
DTSTAMP:20260424T220940
CREATED:20250104T192907Z
LAST-MODIFIED:20250104T193524Z
UID:12289-1748286000-1748293200@bb-vaihingen.de
SUMMARY:Öffentliche Sitzung der BbV-Fraktion
DESCRIPTION:Vor der 4. Sitzung des Gemeinderates am 28. Mai \n\n\n\nDie Themen richten sich nach der Tagesordnung des Gemeinderates
URL:https://bb-vaihingen.de/event/oeffentliche-sitzung-der-bbv-fraktion-4/
LOCATION:Gasthaus »Zum Engel«\, Stuttgarter Straße 2\, Vaihingen an der Enz\, 71665\, Deutschland
CATEGORIES:Fraktionssitzung
END:VEVENT
BEGIN:VEVENT
DTSTART;TZID=Europe/Berlin:20250530T190000
DTEND;TZID=Europe/Berlin:20250530T203000
DTSTAMP:20260424T220940
CREATED:20250513T211429Z
LAST-MODIFIED:20250513T213328Z
UID:12355-1748631600-1748637000@bb-vaihingen.de
SUMMARY:Einladung zur Führung durch die »Bürgergärten in den Köpfwiesen«
DESCRIPTION:mit Stadtrat Andreas Schuller (BbV)\n\n\n\nDie Vaihinger Bürgergärten – zwischen Vergangenheit und Zukunft\n\n\n\n\n\n\n\nDie Bürgergärten in den Köpfwiesen sind ein besonderes Zeugnis städtischer Gartenkultur an den Ufern der Enz. Seit Jahrhunderten werden sie von ihren Pächtern bewirtschaftet und gepflegt. \n\n\n\nStadtrat und Stadtführer Andreas Schuller lädt zu einer informativen und kurzweiligen Führung durch dieses grüne Refugium ein. Dabei geht es nicht nur um die Geschichte und Bedeutung der Gärten\, sondern auch um die aktuellen Entwicklungen und Perspektiven im Zuge der geplanten Gartenschau 2029\, die unmittelbare Auswirkungen auf das Gebiet der Köpfwiesen haben werden.  \n\n\n\nWir treffen uns um 19 Uhr zwischen Enßle-Gebäude und Köpfwiesen-Parkhaus. Zur Kartenansicht. \n\n\n\nEine Anmeldung ist nicht erforderlich.  \n\n\n\nWir freuen uns auf Ihr Kommen und einen anregenden Austausch vor Ort!
URL:https://bb-vaihingen.de/event/einladung-zur-fuehrung-durch-die-buergergaerten-in-den-koepfwiesen/
LOCATION:Parkplatz Köpfwiesen\, Köpfwiesenweg\, Vaihingen an der Enz\, 71665\, Germany
END:VEVENT
END:VCALENDAR