BEGIN:VCALENDAR
VERSION:2.0
PRODID:-//Bürger bewegen Vaihingen an der Enz - ECPv6.15.20//NONSGML v1.0//EN
CALSCALE:GREGORIAN
METHOD:PUBLISH
X-WR-CALNAME:Bürger bewegen Vaihingen an der Enz
X-ORIGINAL-URL:https://bb-vaihingen.de
X-WR-CALDESC:Veranstaltungen für Bürger bewegen Vaihingen an der Enz
REFRESH-INTERVAL;VALUE=DURATION:PT1H
X-Robots-Tag:noindex
X-PUBLISHED-TTL:PT1H
BEGIN:VTIMEZONE
TZID:Europe/Berlin
BEGIN:DAYLIGHT
TZOFFSETFROM:+0100
TZOFFSETTO:+0200
TZNAME:CEST
DTSTART:20240331T010000
END:DAYLIGHT
BEGIN:STANDARD
TZOFFSETFROM:+0200
TZOFFSETTO:+0100
TZNAME:CET
DTSTART:20241027T010000
END:STANDARD
BEGIN:DAYLIGHT
TZOFFSETFROM:+0100
TZOFFSETTO:+0200
TZNAME:CEST
DTSTART:20250330T010000
END:DAYLIGHT
BEGIN:STANDARD
TZOFFSETFROM:+0200
TZOFFSETTO:+0100
TZNAME:CET
DTSTART:20251026T010000
END:STANDARD
BEGIN:DAYLIGHT
TZOFFSETFROM:+0100
TZOFFSETTO:+0200
TZNAME:CEST
DTSTART:20260329T010000
END:DAYLIGHT
BEGIN:STANDARD
TZOFFSETFROM:+0200
TZOFFSETTO:+0100
TZNAME:CET
DTSTART:20261025T010000
END:STANDARD
END:VTIMEZONE
BEGIN:VEVENT
DTSTART;TZID=Europe/Berlin:20250909T190000
DTEND;TZID=Europe/Berlin:20250909T210000
DTSTAMP:20260424T165317
CREATED:20250806T111250Z
LAST-MODIFIED:20250828T135538Z
UID:12509-1757444400-1757451600@bb-vaihingen.de
SUMMARY:BbV-Plenum | »Besprechung der neuen Sitzungsunterlagen im September«
DESCRIPTION:Wir besprechen die Unterlagen der aktuellen Sitzungsrunde. Alle Interessierten sind herzlich willkommen.
URL:https://bb-vaihingen.de/event/bbv-plenum-besprechung-der-neuen-sitzungsunterlagen-im-september/
LOCATION:Gasthaus »Zum Engel«\, Stuttgarter Straße 2\, Vaihingen an der Enz\, 71665\, Deutschland
CATEGORIES:Plenum,Unterlagen
END:VEVENT
BEGIN:VEVENT
DTSTART;TZID=Europe/Berlin:20250916T190000
DTEND;TZID=Europe/Berlin:20250916T210000
DTSTAMP:20260424T165317
CREATED:20250828T134623Z
LAST-MODIFIED:20250828T135308Z
UID:12528-1758049200-1758056400@bb-vaihingen.de
SUMMARY:Offenes BbV-Plenum im September
DESCRIPTION:Was uns in der Kommunalpolitik bewegt! Alle zwei Monate treffen wir uns im »Gasthaus Engel« zum offenen Plenum. Frei von Sachzwängen sprechen wir über das\, was uns bewegt. Dabei diskutieren wir auch über neue Ideen\, geplante Aktionen und anstehende Veranstaltungen. Alle\, die sich für die Kommunalpolitik in Vaihingen an der Enz interessieren\, sind herzlich willkommen – um mitzudiskutieren oder einfach nur zuzuhören. 
URL:https://bb-vaihingen.de/event/offenes-bbv-plenum-im-september/
LOCATION:Gasthaus »Zum Engel«\, Stuttgarter Straße 2\, Vaihingen an der Enz\, 71665\, Deutschland
CATEGORIES:Plenum
END:VEVENT
BEGIN:VEVENT
DTSTART;TZID=Europe/Berlin:20250919T150000
DTEND;TZID=Europe/Berlin:20250919T200000
DTSTAMP:20260424T165317
CREATED:20250909T084652Z
LAST-MODIFIED:20250909T142126Z
UID:12533-1758294000-1758312000@bb-vaihingen.de
SUMMARY:Exkursion: »Von Streuobstwiesen bis Mostverkostung«
DESCRIPTION:Die Wählervereinigung Bürger bewegen Vaihingen (BbV) lädt ein am  \n\n\n\nFreitag\, den 19.9.2025\, um 15 Uhr \n\n\n\nzu einer informativen Exkursion mit Georg Hüeber aus Gündelbach.  \n\n\n\nGeorg Hüeber \n\n\n\nist Baumwart im Landratsamt Ludwigsburg für den Fachbereich Straßen\,  gelernter Forstwirt\, erfahrener Streuobstwiesenbewirtschafter und leidenschaftlicher Hobbygärtner. Mit seinem breiten Fachwissen wird er spannende Einblicke rund um das Thema Bäume\, Grünflächen und Streuobstwiesen geben. \n\n\n\nTreffpunkt\n\n\n\nWir treffen uns um 15 Uhr mit unseren Fahrzeugen am P+R-Parkplatz – 600 Meter nach dem Vaihingen Bahnhof an der Landstraße Richtung Illingen/perfekter Standort auf der rechten Seite gelegen. \n\n\n\nZur Kartenansicht ↗ \n\n\n\nDer Weg vom Bahnhof zum Parkplatz ↗ \n\n\n\nProgramm\n\n\n\nDort erfahren wir Wissenswertes über das sog. „Straßenbegleitgrün“. Dann bilden wir Fahrgemeinschaften und besuchen  verschiedene Streuobstwiesen in Ensingen und Gündelbach. \n\n\n\nZum Abschluß sind wir in Gündelbach zur Mostverkostung eingeladen und erfahren auch noch Wissenswertes zum Thema Fassadenbegrünung. \n\n\n\n\n\n\n\nSeit ihrer Gründung nach dem Bürgerentscheid gegen den Abriss des Enßle-Gebäudes und der Überbauung eines Teils der Bürgergärten vor der Stadtmauer Vaihingen setzt sich die BbV konsequent für den Erhalt und Ausbau von Baum- und Grünflächen im gesamten Stadtgebiet mit allen Teilorten ein. \n\n\n\nAlle interessierten Bürger sind herzlich eingeladen\, die Teilnahme ist kostenlos. \n\n\n\nWir bitten um Anmeldung per E-Mail an Doro Braun-Mayr
URL:https://bb-vaihingen.de/event/exkursion-von-streuobstwiesen-bis-mostverkostung/
END:VEVENT
BEGIN:VEVENT
DTSTART;TZID=Europe/Berlin:20250923T190000
DTEND;TZID=Europe/Berlin:20250923T210000
DTSTAMP:20260424T165317
CREATED:20250806T121924Z
LAST-MODIFIED:20250828T135456Z
UID:12519-1758654000-1758661200@bb-vaihingen.de
SUMMARY:Öffentliche Sitzung der BbV-Fraktion
DESCRIPTION:Vor der nächsten Sitzung des Gemeinderates. Die Themen richten sich nach der Tagesordnung des Gemeinderates
URL:https://bb-vaihingen.de/event/oeffentliche-sitzung-der-bbv-fraktion-7/
LOCATION:Gasthaus »Zum Engel«\, Stuttgarter Straße 2\, Vaihingen an der Enz\, 71665\, Deutschland
CATEGORIES:Fraktionssitzung,Plenum
END:VEVENT
END:VCALENDAR