BEGIN:VCALENDAR
VERSION:2.0
PRODID:-//Bürger bewegen Vaihingen an der Enz - ECPv6.15.20//NONSGML v1.0//EN
CALSCALE:GREGORIAN
METHOD:PUBLISH
X-WR-CALNAME:Bürger bewegen Vaihingen an der Enz
X-ORIGINAL-URL:https://bb-vaihingen.de
X-WR-CALDESC:Veranstaltungen für Bürger bewegen Vaihingen an der Enz
REFRESH-INTERVAL;VALUE=DURATION:PT1H
X-Robots-Tag:noindex
X-PUBLISHED-TTL:PT1H
BEGIN:VTIMEZONE
TZID:Europe/Berlin
BEGIN:DAYLIGHT
TZOFFSETFROM:+0100
TZOFFSETTO:+0200
TZNAME:CEST
DTSTART:20250330T010000
END:DAYLIGHT
BEGIN:STANDARD
TZOFFSETFROM:+0200
TZOFFSETTO:+0100
TZNAME:CET
DTSTART:20251026T010000
END:STANDARD
BEGIN:DAYLIGHT
TZOFFSETFROM:+0100
TZOFFSETTO:+0200
TZNAME:CEST
DTSTART:20260329T010000
END:DAYLIGHT
BEGIN:STANDARD
TZOFFSETFROM:+0200
TZOFFSETTO:+0100
TZNAME:CET
DTSTART:20261025T010000
END:STANDARD
BEGIN:DAYLIGHT
TZOFFSETFROM:+0100
TZOFFSETTO:+0200
TZNAME:CEST
DTSTART:20270328T010000
END:DAYLIGHT
BEGIN:STANDARD
TZOFFSETFROM:+0200
TZOFFSETTO:+0100
TZNAME:CET
DTSTART:20271031T010000
END:STANDARD
END:VTIMEZONE
BEGIN:VEVENT
DTSTART;TZID=Europe/Berlin:20260106T150000
DTEND;TZID=Europe/Berlin:20260106T190000
DTSTAMP:20260424T113447
CREATED:20251202T210027Z
LAST-MODIFIED:20251215T145416Z
UID:12793-1767711600-1767726000@bb-vaihingen.de
SUMMARY:BbV-Neujahrstreffen im Engel
DESCRIPTION:Wir treffen uns bei Kaffee und Kuchen.
URL:https://bb-vaihingen.de/event/bbv-neujahrsempfang/
LOCATION:Gasthaus »Zum Engel«\, Stuttgarter Straße 2\, Vaihingen an der Enz\, 71665\, Deutschland
CATEGORIES:Plenum
END:VEVENT
BEGIN:VEVENT
DTSTART;TZID=Europe/Berlin:20260114T190000
DTEND;TZID=Europe/Berlin:20260114T210000
DTSTAMP:20260424T113447
CREATED:20251215T150945Z
LAST-MODIFIED:20251215T151014Z
UID:12832-1768417200-1768424400@bb-vaihingen.de
SUMMARY:BbV-Plenum | »Besprechung der neuen Sitzungsunterlagen für Januar«
DESCRIPTION:Wir besprechen die Unterlagen der aktuellen Sitzungsrunde. Alle Interessierten sind herzlich willkommen.
URL:https://bb-vaihingen.de/event/bbv-plenum-besprechung-der-neuen-sitzungsunterlagen-fuer-januar/
LOCATION:Gasthaus »Zum Engel«\, Stuttgarter Straße 2\, Vaihingen an der Enz\, 71665\, Deutschland
CATEGORIES:Plenum,Unterlagen
END:VEVENT
BEGIN:VEVENT
DTSTART;TZID=Europe/Berlin:20260120T190000
DTEND;TZID=Europe/Berlin:20260120T210000
DTSTAMP:20260424T113447
CREATED:20251230T165043Z
LAST-MODIFIED:20251230T165500Z
UID:12843-1768935600-1768942800@bb-vaihingen.de
SUMMARY:Ideen-Plenum für die Haushaltsstrukturkommission
DESCRIPTION:Organisator und Moderator ist Jürgen.  \n\n\n\nDie Einreichung der Ideen ist von der Verwaltung zunächst bis zum 31. Januar 2026 begrenzt. \n\n\n\nVorbereitung\n\n\n\nFalls Ihr Ideen habt\, dann bitte Folgendes  vorbereiten: \n\n\n\n\nArt der Einsparung (einmalige oder jährliche Einsparungen oder Mehreinnahmen\, etc.)\n\n\n\nHöhe der Einsparung\n\n\n\nworaus resultieren die Einsparungen\n\n\n\nausführliche Beschreibung (max. 2.500 Zeichen)\n\n\n\n\nJürgen würde sich über ein reges Interesse freuen.
URL:https://bb-vaihingen.de/event/ideen-plenum-fuer-die-haushaltsstrukturkommission/
LOCATION:Gasthaus »Zum Engel«\, Stuttgarter Straße 2\, Vaihingen an der Enz\, 71665\, Deutschland
CATEGORIES:Plenum
END:VEVENT
END:VCALENDAR